{"text_format":"1","workbook":"xlsx","n_sheets":17,"sheets":["Anmeldung","6er Plan","8er Plan","10er Plan","12er Plan","14er Plan","16er Plan","18er Plan","20er Plan","22er Plan","24er Plan","26er Plan","28er Plan","30er Plan","32er Plan","Partien drucken","Tabelle"],"not_rendered":{"charts":0,"images":0,"macros":1,"external_links":0,"defined_names":1,"comments":0,"pivot_tables":0},"unopened":[],"bounds":{"document_bytes":16777216,"sheet_cells":100000,"rows_first":2000,"rows_last":500,"rows_between":2000,"halvings":0,"cell_chars":16384,"cell_head_chars":4096},"cells_cut":0,"cells_raw":0,"read":"whole","date_system":"1900"}

{"sheet":"Anmeldung","index":0,"n_rows":33,"n_cols":7,"rows_kept":33,"cut":false,"hidden":false,"merged":[[0,5,0,7]]}
["Nr.","Teilnehmer",null,null,null,"Auslosung"]
[1,null,null,null,null,1,{"$f":"RAND()","v":8.7429675572263221E-2}]
[2,null,null,null,null,2,0.47153117472430794]
[3,null,null,null,null,3,0.44228198677022856]
[4,null,null,null,null,4,0.96343459371525031]
[5,null,null,null,null,5,0.65752414139056581]
[6,null,null,null,null,6,0.66154900069034228]
[7,null,null,null,null,7,0.19579698423604375]
[8,null,null,null,null,8,0.98755695739892002]
[9,null,null,null,null,9,{"$f":"RAND()","v":0.36259799064804865}]
[10,null,null,null,null,10,0.92685876672421041]
[11,null,null,null,null,11,0.5559894669391241]
[12,null,null,null,null,12,0.93501954593350467]
[13,null,null,null,null,13,0.21738734372418533]
[14,null,null,null,null,14,0.92731070611355815]
[15,null,null,null,null,15,0.94921572542875576]
[16,null,null,null,null,16,0.71463117123987197]
[17,null,null,null,null,17,0.27717437699337333]
[18,null,null,null,null,18,0.86761763477529208]
[19,null,null,null,null,19,0.71819914652188177]
[20,null,null,null,null,20,0.71214849824944038]
[21,null,null,null,null,21,0.10440253954234524]
[22,null,null,null,null,22,0.77256295230043015]
[23,null,null,null,null,23,0.88247500362327846]
[24,null,null,null,null,24,0.18686354039457376]
[25,null,null,null,null,25,0.35116997030112451]
[26,null,null,null,null,26,9.3498909663986773E-2]
[27,null,null,null,null,27,0.91349548389797008]
[28,null,null,null,null,28,1.539945891752792E-2]
[29,null,null,null,null,29,0.57433316362233977]
[30,null,null,null,null,30,0.78716489596822437]
[31,null,null,null,null,31,8.2213214165426041E-2]
[32,null,null,null,null,32,0.50114618985939896]

{"sheet":"6er Plan","index":1,"n_rows":13,"n_cols":18,"rows_kept":13,"cut":false,"hidden":true,"merged":[[3,12,3,13],[7,12,7,13],[11,12,11,13],[3,16,3,17],[7,16,7,17],[11,16,11,17],[3,4,3,5],[7,4,7,5],[11,4,11,5],[3,8,3,9],[7,8,7,9],[11,8,11,9]]}
["Durchgang 1","Erg",null,"Durchgang 2",null,"Erg",null,"Durchgang 3",null,"Erg",null,"Durchgang 4",null,"Erg",null,"Durchgang 5",null,"Erg"]
[]
[{"$f":"Anmeldung!H2","v":0},null,null,{"$f":"IF(B3=B5,\"\",IF(B3>B5,A3,A5))","v":""},"s101",null,null,{"$f":"IF(F3=F5,\"\",IF(F3>F5,D3,D5))","v":""},"s201",null,null,{"$f":"IF(J3=J5,\"\",IF(J3>J5,H3,H5))","v":""},"s301",null,null,{"$f":"IF(N3=N5,\"\",IF(N3>N5,L3,L5))","v":""},"s401"]
[101,null,null,201,null,null,null,301,null,null,null,401,null,null,null,501]
[{"$f":"Anmeldung!H3","v":0},null,null,{"$f":"IF(B7=B9,\"\",IF(B7>B9,A7,A9))","v":""},"s102",null,null,{"$f":"IF(F7=F9,\"\",IF(F7>F9,D7,D9))","v":""},"s202",null,null,{"$f":"IF(J7=J9,\"\",IF(J7>J9,H7,H9))","v":""},"s302",null,null,{"$f":"IF(N7=N9,\"\",IF(N7>N9,L7,L9))","v":""},"s402"]
[]
[{"$f":"Anmeldung!H4","v":0},null,null,{"$f":"IF(B11=B13,\"\",IF(B11>B13,A11,A13))","v":""},"s103",null,null,{"$f":"IF(F11=F13,\"\",IF(F11>F13,D11,D13))","v":""},"s203",null,null,{"$f":"IF(J11=J13,\"\",IF(J11>J13,H11,H13))","v":""},"s303",null,null,{"$f":"IF(N11=N13,\"\",IF(N11>N13,L11,L13))","v":""},"s403"]
[102,null,null,202,null,null,null,302,null,null,null,402,null,null,null,502]
[{"$f":"Anmeldung!H5","v":0},null,null,{"$f":"IF(B3=B5,\"\",IF(B3<B5,A3,A5))","v":""},"v101",null,null,{"$f":"IF(F3=F5,\"\",IF(F3<F5,D3,D5))","v":""},"v201",null,null,{"$f":"IF(J3=J5,\"\",IF(J3<J5,H3,H5))","v":""},"v301",null,null,{"$f":"IF(N3=N5,\"\",IF(N3<N5,L3,L5))","v":""},"v401"]
[]
[{"$f":"Anmeldung!H6","v":0},null,null,{"$f":"IF(B7=B9,\"\",IF(B7<B9,A7,A9))","v":""},"v102",null,null,{"$f":"IF(F7=F9,\"\",IF(F7<F9,D7,D9))","v":""},"v202",null,null,{"$f":"IF(J7=J9,\"\",IF(J7<J9,H7,H9))","v":""},"v302",null,null,{"$f":"IF(N7=N9,\"\",IF(N7<N9,L7,L9))","v":""},"v402"]
[103,null,null,203,null,null,null,303,null,null,null,403,null,null,null,503]
[{"$f":"Anmeldung!H7","v":0},null,null,{"$f":"IF(B11=B13,\"\",IF(B11<B13,A11,A13))","v":""},"v103",null,null,{"$f":"IF(F11=F13,\"\",IF(F11<F13,D11,D13))","v":""},"v203",null,null,{"$f":"IF(J11=J13,\"\",IF(J11<J13,H11,H13))","v":""},"v303",null,null,{"$f":"IF(N11=N13,\"\",IF(N11<N13,L11,L13))","v":""},"v403"]

{"sheet":"8er Plan","index":2,"n_rows":17,"n_cols":18,"rows_kept":17,"cut":false,"hidden":true,"merged":[[3,16,3,17],[7,16,7,17],[11,16,11,17],[15,16,15,17],[15,12,15,13],[11,12,11,13],[7,12,7,13],[3,12,3,13],[3,8,3,9],[7,8,7,9],[11,8,11,9],[15,8,15,9],[3,4,3,5],[7,4,7,5],[11,4,11,5],[15,4,15,5]]}
["Durchgang 1","Erg",null,"Durchgang 2",null,"Erg",null,"Durchgang 3",null,"Erg",null,"Durchgang 4",null,"Erg",null,"Durchgang 5",null,"Erg"]
[]
[{"$f":"Anmeldung!H2","v":0},null,null,{"$f":"IF(B3=B5,\"\",IF(B3>B5,A3,A5))","v":""},"s101",null,null,{"$f":"IF(F3=F5,\"\",IF(F3>F5,D3,D5))","v":""},"s201",null,null,{"$f":"IF(J3=J5,\"\",IF(J3>J5,H3,H5))","v":""},"s301",null,null,{"$f":"IF(N3=N5,\"\",IF(N3>N5,L3,L5))","v":""},"s401"]
[101,null,null,201,null,null,null,301,null,null,null,401,null,null,null,501]
[{"$f":"Anmeldung!H3","v":0},null,null,{"$f":"IF(B7=B9,\"\",IF(B7>B9,A7,A9))","v":""},"s102",null,null,{"$f":"IF(F7=F9,\"\",IF(F7>F9,D7,D9))","v":""},"s202",null,null,{"$f":"IF(J7=J9,\"\",IF(J7>J9,H7,H9))","v":""},"s302",null,null,{"$f":"IF(N7=N9,\"\",IF(N7>N9,L7,L9))","v":""},"s402"]
[]
[{"$f":"Anmeldung!H4","v":0},null,null,{"$f":"IF(B11=B13,\"\",IF(B11>B13,A11,A13))","v":""},"s103",null,null,{"$f":"IF(F11=F13,\"\",IF(F11>F13,D11,D13))","v":""},"s203",null,null,{"$f":"IF(J11=J13,\"\",IF(J11>J13,H11,H13))","v":""},"s303",null,null,{"$f":"IF(N11=N13,\"\",IF(N11>N13,L11,L13))","v":""},"s403"]
[102,null,null,202,null,null,null,302,null,null,null,402,null,null,null,502]
[{"$f":"Anmeldung!H5","v":0},null,null,{"$f":"IF(B15=B17,\"\",IF(B15>B17,A15,A17))","v":""},"s104",null,null,{"$f":"IF(F15=F17,\"\",IF(F15>F17,D15,D17))","v":""},"s204",null,null,{"$f":"IF(J15=J17,\"\",IF(J15>J17,H15,H17))","v":""},"s304",null,null,{"$f":"IF(N15=N17,\"\",IF(N15>N17,L15,L17))","v":""},"s404"]
[]
[{"$f":"Anmeldung!H6","v":0},null,null,{"$f":"IF(B3=B5,\"\",IF(B3<B5,A3,A5))","v":""},"v101",null,null,{"$f":"IF(F3=F5,\"\",IF(F3<F5,D3,D5))","v":""},"v201",null,null,{"$f":"IF(J3=J5,\"\",IF(J3<J5,H3,H5))","v":""},"v301",null,null,{"$f":"IF(N3=N5,\"\",IF(N3<N5,L3,L5))","v":""},"v401"]
[103,null,null,203,null,null,null,303,null,null,null,403,null,null,null,503]
[{"$f":"Anmeldung!H7","v":0},null,null,{"$f":"IF(B7=B9,\"\",IF(B7<B9,A7,A9))","v":""},"v102",null,null,{"$f":"IF(F7=F9,\"\",IF(F7<F9,D7,D9))","v":""},"v202",null,null,{"$f":"IF(J7=J9,\"\",IF(J7<J9,H7,H9))","v":""},"v302",null,null,{"$f":"IF(N7=N9,\"\",IF(N7<N9,L7,L9))","v":""},"v402"]
[]
[{"$f":"Anmeldung!H8","v":0},null,null,{"$f":"IF(B11=B13,\"\",IF(B11<B13,A11,A13))","v":""},"v103",null,null,{"$f":"IF(F11=F13,\"\",IF(F11<F13,D11,D13))","v":""},"v203",null,null,{"$f":"IF(J11=J13,\"\",IF(J11<J13,H11,H13))","v":""},"v303",null,null,{"$f":"IF(N11=N13,\"\",IF(N11<N13,L11,L13))","v":""},"v403"]
[104,null,null,204,null,null,null,304,null,null,null,404,null,null,null,504]
[{"$f":"Anmeldung!H9","v":0},null,null,{"$f":"IF(B15=B17,\"\",IF(B15<B17,A15,A17))","v":""},"v104",null,null,{"$f":"IF(F15=F17,\"\",IF(F15<F17,D15,D17))","v":""},"v204",null,null,{"$f":"IF(J15=J17,\"\",IF(J15<J17,H15,H17))","v":""},"v304",null,null,{"$f":"IF(N15=N17,\"\",IF(N15<N17,L15,L17))","v":""},"v404"]

{"sheet":"10er Plan","index":3,"n_rows":21,"n_cols":18,"rows_kept":21,"cut":false,"hidden":true,"merged":[[19,8,19,9],[19,12,19,13],[19,16,19,17],[23,8,23,9],[23,12,23,13],[23,16,23,17],[11,8,11,9],[11,12,11,13],[11,16,11,17],[15,8,15,9],[15,12,15,13],[15,16,15,17],[7,4,7,5],[7,8,7,9],[7,12,7,13],[7,16,7,17],[3,4,3,5],[3,8,3,9],[3,12,3,13],[3,16,3,17]]}
["Durchgang 1","Erg",null,"Durchgang 2",null,"Erg",null,"Durchgang 3",null,"Erg",null,"Durchgang 4",null,"Erg",null,"Durchgang 5",null,"Erg"]
[]
[{"$f":"Anmeldung!H2","v":0},null,null,{"$f":"IF(B3=B5,\"\",IF(B3>B5,A3,A5))","v":""},"s101",null,null,{"$f":"IF(F3=F5,\"\",IF(F3>F5,D3,D5))","v":""},"s201",null,null,{"$f":"IF(J3=J5,\"\",IF(J3>J5,H3,H5))","v":""},"s301",null,null,{"$f":"IF(N3=N5,\"\",IF(N3>N5,L3,L5))","v":""},"s401"]
[101,null,null,201,null,null,null,301,null,null,null,401,null,null,null,501]
[{"$f":"Anmeldung!H3","v":0},null,null,{"$f":"IF(B7=B9,\"\",IF(B7>B9,A7,A9))","v":""},"s102",null,null,{"$f":"IF(F7=F9,\"\",IF(F7>F9,D7,D9))","v":""},"s202",null,null,{"$f":"IF(J7=J9,\"\",IF(J7>J9,H7,H9))","v":""},"s302",null,null,{"$f":"IF(N7=N9,\"\",IF(N7>N9,L7,L9))","v":""},"s402"]
[]
[{"$f":"Anmeldung!H4","v":0},null,null,{"$f":"IF(B11=B13,\"\",IF(B11>B13,A11,A13))","v":""},"s103",null,null,{"$f":"IF(F11=F13,\"\",IF(F11>F13,D11,D13))","v":""},"s203",null,null,{"$f":"IF(J11=J13,\"\",IF(J11>J13,H11,H13))","v":""},"s303",null,null,{"$f":"IF(N11=N13,\"\",IF(N11>N13,L11,L13))","v":""},"s403"]
[102,null,null,202,null,null,null,302,null,null,null,402,null,null,null,502]
[{"$f":"Anmeldung!H5","v":0},null,null,{"$f":"IF(B15=B17,\"\",IF(B15>B17,A15,A17))","v":""},"s104",null,null,{"$f":"IF(F15=F17,\"\",IF(F15>F17,D15,D17))","v":""},"s204",null,null,{"$f":"IF(J15=J17,\"\",IF(J15>J17,H15,H17))","v":""},"s304",null,null,{"$f":"IF(N15=N17,\"\",IF(N15>N17,L15,L17))","v":""},"s404"]
[]
[{"$f":"Anmeldung!H6","v":0},null,null,{"$f":"IF(B19=B21,\"\",IF(B19>B21,A19,A21))","v":""},"s105",null,null,{"$f":"IF(F19=F21,\"\",IF(F19>F21,D19,D21))","v":""},"s205",null,null,{"$f":"IF(J19=J21,\"\",IF(J19>J21,H19,H21))","v":""},"s305",null,null,{"$f":"IF(N19=N21,\"\",IF(N19>N21,L19,L21))","v":""},"s405"]
[103,null,null,203,null,null,null,303,null,null,null,403,null,null,null,503]
[{"$f":"Anmeldung!H7","v":0},null,null,{"$f":"IF(B3=B5,\"\",IF(B3<B5,A3,A5))","v":""},"v101",null,null,{"$f":"IF(F3=F5,\"\",IF(F3<F5,D3,D5))","v":""},"v201",null,null,{"$f":"IF(J3=J5,\"\",IF(J3<J5,H3,H5))","v":""},"v301",null,null,{"$f":"IF(N3=N5,\"\",IF(N3<N5,L3,L5))","v":""},"v401"]
[]
[{"$f":"Anmeldung!H8","v":0},null,null,{"$f":"IF(B7=B9,\"\",IF(B7<B9,A7,A9))","v":""},"v102",null,null,{"$f":"IF(F7=F9,\"\",IF(F7<F9,D7,D9))","v":""},"v202",null,null,{"$f":"IF(J7=J9,\"\",IF(J7<J9,H7,H9))","v":""},"v302",null,null,{"$f":"IF(N7=N9,\"\",IF(N7<N9,L7,L9))","v":""},"v402"]
[104,null,null,204,null,null,null,304,null,null,null,404,null,null,null,504]
[{"$f":"Anmeldung!H9","v":0},null,null,{"$f":"IF(B11=B13,\"\",IF(B11<B13,A11,A13))","v":""},"v103",null,null,{"$f":"IF(F11=F13,\"\",IF(F11<F13,D11,D13))","v":""},"v203",null,null,{"$f":"IF(J11=J13,\"\",IF(J11<J13,H11,H13))","v":""},"v303",null,null,{"$f":"IF(N11=N13,\"\",IF(N11<N13,L11,L13))","v":""},"v403"]
[]
[{"$f":"Anmeldung!H10","v":0},null,null,{"$f":"IF(B15=B17,\"\",IF(B15<B17,A15,A17))","v":""},"v104",null,null,{"$f":"IF(F15=F17,\"\",IF(F15<F17,D15,D17))","v":""},"v204",null,null,{"$f":"IF(J15=J17,\"\",IF(J15<J17,H15,H17))","v":""},"v304",null,null,{"$f":"IF(N15=N17,\"\",IF(N15<N17,L15,L17))","v":""},"v404"]
[105,null,null,205,null,null,null,305,null,null,null,405,null,null,null,505]
[{"$f":"Anmeldung!H11","v":0},null,null,{"$f":"IF(B19=B21,\"\",IF(B19<B21,A19,A21))","v":""},"v105",null,null,{"$f":"IF(F19=F21,\"\",IF(F19<F21,D19,D21))","v":""},"v205",null,null,{"$f":"IF(J19=J21,\"\",IF(J19<J21,H19,H21))","v":""},"v305",null,null,{"$f":"IF(N19=N21,\"\",IF(N19<N21,L19,L21))","v":""},"v405"]

{"sheet":"12er Plan","index":4,"n_rows":25,"n_cols":18,"rows_kept":25,"cut":false,"hidden":true,"merged":[[3,16,3,17],[7,16,7,17],[11,16,11,17],[15,16,15,17],[19,16,19,17],[19,8,19,9],[23,8,23,9],[19,12,19,13],[23,12,23,13],[23,16,23,17],[15,12,15,13],[11,8,11,9],[15,8,15,9],[3,12,3,13],[7,12,7,13],[3,4,3,5],[7,4,7,5],[3,8,3,9],[7,8,7,9],[11,12,11,13]]}
["Durchgang 1","Erg",null,"Durchgang 2",null,"Erg",null,"Durchgang 3",null,"Erg",null,"Durchgang 4",null,"Erg",null,"Durchgang 5",null,"Erg"]
[]
[{"$f":"Anmeldung!H2","v":0},null,null,{"$f":"IF(B3=B5,\"\",IF(B3>B5,A3,A5))","v":""},"s101",null,null,{"$f":"IF(F3=F5,\"\",IF(F3>F5,D3,D5))","v":""},"s201",null,null,{"$f":"IF(J3=J5,\"\",IF(J3>J5,H3,H5))","v":""},"s301",null,null,{"$f":"IF(N3=N5,\"\",IF(N3>N5,L3,L5))","v":""},"s401"]
[101,null,null,201,null,null,null,301,null,null,null,401,null,null,null,501]
[{"$f":"Anmeldung!H3","v":0},null,null,{"$f":"IF(B7=B9,\"\",IF(B7>B9,A7,A9))","v":""},"s102",null,null,{"$f":"IF(F7=F9,\"\",IF(F7>F9,D7,D9))","v":""},"s202",null,null,{"$f":"IF(J7=J9,\"\",IF(J7>J9,H7,H9))","v":""},"s302",null,null,{"$f":"IF(N7=N9,\"\",IF(N7>N9,L7,L9))","v":""},"s402"]
[]
[{"$f":"Anmeldung!H4","v":0},null,null,{"$f":"IF(B11=B13,\"\",IF(B11>B13,A11,A13))","v":""},"s103",null,null,{"$f":"IF(F11=F13,\"\",IF(F11>F13,D11,D13))","v":""},"s203",null,null,{"$f":"IF(J11=J13,\"\",IF(J11>J13,H11,H13))","v":""},"s303",null,null,{"$f":"IF(N11=N13,\"\",IF(N11>N13,L11,L13))","v":""},"s403"]
[102,null,null,202,null,null,null,302,null,null,null,402,null,null,null,502]
[{"$f":"Anmeldung!H5","v":0},null,null,{"$f":"IF(B15=B17,\"\",IF(B15>B17,A15,A17))","v":""},"s104",null,null,{"$f":"IF(F15=F17,\"\",IF(F15>F17,D15,D17))","v":""},"s204",null,null,{"$f":"IF(J15=J17,\"\",IF(J15>J17,H15,H17))","v":""},"s304",null,null,{"$f":"IF(N15=N17,\"\",IF(N15>N17,L15,L17))","v":""},"s404"]
[]
[{"$f":"Anmeldung!H6","v":0},null,null,{"$f":"IF(B19=B21,\"\",IF(B19>B21,A19,A21))","v":""},"s105",null,null,{"$f":"IF(F19=F21,\"\",IF(F19>F21,D19,D21))","v":""},"s205",null,null,{"$f":"IF(J19=J21,\"\",IF(J19>J21,H19,H21))","v":""},"s305",null,null,{"$f":"IF(N19=N21,\"\",IF(N19>N21,L19,L21))","v":""},"s405"]
[103,null,null,203,null,null,null,303,null,null,null,403,null,null,null,503]
[{"$f":"Anmeldung!H7","v":0},null,null,{"$f":"IF(B23=B25,\"\",IF(B23>B25,A23,A25))","v":""},"s106",null,null,{"$f":"IF(F23=F25,\"\",IF(F23>F25,D23,D25))","v":""},"s206",null,null,{"$f":"IF(J23=J25,\"\",IF(J23>J25,H23,H25))","v":""},"s306",null,null,{"$f":"IF(N23=N25,\"\",IF(N23>N25,L23,L25))","v":""},"s406"]
[]
[{"$f":"Anmeldung!H8","v":0},null,null,{"$f":"IF(B3=B5,\"\",IF(B3<B5,A3,A5))","v":""},"v101",null,null,{"$f":"IF(F3=F5,\"\",IF(F3<F5,D3,D5))","v":""},"v201",null,null,{"$f":"IF(J3=J5,\"\",IF(J3<J5,H3,H5))","v":""},"v301",null,null,{"$f":"IF(N3=N5,\"\",IF(N3<N5,L3,L5))","v":""},"v401"]
[104,null,null,204,null,null,null,304,null,null,null,404,null,null,null,504]
[{"$f":"Anmeldung!H9","v":0},null,null,{"$f":"IF(B7=B9,\"\",IF(B7<B9,A7,A9))","v":""},"v102",null,null,{"$f":"IF(F7=F9,\"\",IF(F7<F9,D7,D9))","v":""},"v202",null,null,{"$f":"IF(J7=J9,\"\",IF(J7<J9,H7,H9))","v":""},"v302",null,null,{"$f":"IF(N7=N9,\"\",IF(N7<N9,L7,L9))","v":""},"v402"]
[]
[{"$f":"Anmeldung!H10","v":0},null,null,{"$f":"IF(B11=B13,\"\",IF(B11<B13,A11,A13))","v":""},"v103",null,null,{"$f":"IF(F11=F13,\"\",IF(F11<F13,D11,D13))","v":""},"v203",null,null,{"$f":"IF(J11=J13,\"\",IF(J11<J13,H11,H13))","v":""},"v303",null,null,{"$f":"IF(N11=N13,\"\",IF(N11<N13,L11,L13))","v":""},"v403"]
[105,null,null,205,null,null,null,305,null,null,null,405,null,null,null,505]
[{"$f":"Anmeldung!H11","v":0},null,null,{"$f":"IF(B15=B17,\"\",IF(B15<B17,A15,A17))","v":""},"v104",null,null,{"$f":"IF(F15=F17,\"\",IF(F15<F17,D15,D17))","v":""},"v204",null,null,{"$f":"IF(J15=J17,\"\",IF(J15<J17,H15,H17))","v":""},"v304",null,null,{"$f":"IF(N15=N17,\"\",IF(N15<N17,L15,L17))","v":""},"v404"]
[]
[{"$f":"Anmeldung!H12","v":0},null,null,{"$f":"IF(B19=B21,\"\",IF(B19<B21,A19,A21))","v":""},"v105",null,null,{"$f":"IF(F19=F21,\"\",IF(F19<F21,D19,D21))","v":""},"v205",null,null,{"$f":"IF(J19=J21,\"\",IF(J19<J21,H19,H21))","v":""},"v305",null,null,{"$f":"IF(N19=N21,\"\",IF(N19<N21,L19,L21))","v":""},"v405"]
[106,null,null,206,null,null,null,306,null,null,null,406,null,null,null,506]
[{"$f":"Anmeldung!H13","v":0},null,null,{"$f":"IF(B23=B25,\"\",IF(B23<B25,A23,A25))","v":""},"v106",null,null,{"$f":"IF(F23=F25,\"\",IF(F23<F25,D23,D25))","v":""},"v206",null,null,{"$f":"IF(J23=J25,\"\",IF(J23<J25,H23,H25))","v":""},"v306",null,null,{"$f":"IF(N23=N25,\"\",IF(N23<N25,L23,L25))","v":""},"v406"]

{"sheet":"14er Plan","index":5,"n_rows":29,"n_cols":18,"rows_kept":29,"cut":false,"hidden":true,"merged":[[31,4,31,5],[31,8,31,9],[31,12,31,13],[31,16,31,17],[27,4,27,5],[27,8,27,9],[27,12,27,13],[27,16,27,17],[23,4,23,5],[23,8,23,9],[23,12,23,13],[23,16,23,17],[19,4,19,5],[19,8,19,9],[19,12,19,13],[19,16,19,17],[15,4,15,5],[15,8,15,9],[15,12,15,13],[15,16,15,17],[11,4,11,5],[11,8,11,9],[11,12,11,13],[11,16,11,17],[7,4,7,5],[7,8,7,9],[7,12,7,13],[7,16,7,17],[3,4,3,5],[3,8,3,9],[3,12,3,13],[3,16,3,17]]}
["Durchgang 1","Erg",null,"Durchgang 2",null,"Erg",null,"Durchgang 3",null,"Erg",null,"Durchgang 4",null,"Erg",null,"Durchgang 5",null,"Erg"]
[]
[{"$f":"Anmeldung!H2","v":0},null,null,{"$f":"IF(B3=B5,\"\",IF(B3>B5,A3,A5))","v":""},"s101",null,null,{"$f":"IF(F3=F5,\"\",IF(F3>F5,D3,D5))","v":""},"s201",null,null,{"$f":"IF(J3=J5,\"\",IF(J3>J5,H3,H5))","v":""},"s301",null,null,{"$f":"IF(N3=N5,\"\",IF(N3>N5,L3,L5))","v":""},"s401"]
[101,null,null,201,null,null,null,301,null,null,null,401,null,null,null,501]
[{"$f":"Anmeldung!H3","v":0},null,null,{"$f":"IF(B7=B9,\"\",IF(B7>B9,A7,A9))","v":""},"s102",null,null,{"$f":"IF(F7=F9,\"\",IF(F7>F9,D7,D9))","v":""},"s202",null,null,{"$f":"IF(J7=J9,\"\",IF(J7>J9,H7,H9))","v":""},"s302",null,null,{"$f":"IF(N7=N9,\"\",IF(N7>N9,L7,L9))","v":""},"s402"]
[]
[{"$f":"Anmeldung!H4","v":0},null,null,{"$f":"IF(B11=B13,\"\",IF(B11>B13,A11,A13))","v":""},"s103",null,null,{"$f":"IF(F11=F13,\"\",IF(F11>F13,D11,D13))","v":""},"s203",null,null,{"$f":"IF(J11=J13,\"\",IF(J11>J13,H11,H13))","v":""},"s303",null,null,{"$f":"IF(N11=N13,\"\",IF(N11>N13,L11,L13))","v":""},"s403"]
[102,null,null,202,null,null,null,302,null,null,null,402,null,null,null,502]
[{"$f":"Anmeldung!H5","v":0},null,null,{"$f":"IF(B15=B17,\"\",IF(B15>B17,A15,A17))","v":""},"s104",null,null,{"$f":"IF(F15=F17,\"\",IF(F15>F17,D15,D17))","v":""},"s204",null,null,{"$f":"IF(J15=J17,\"\",IF(J15>J17,H15,H17))","v":""},"s304",null,null,{"$f":"IF(N15=N17,\"\",IF(N15>N17,L15,L17))","v":""},"s404"]
[]
[{"$f":"Anmeldung!H6","v":0},null,null,{"$f":"IF(B19=B21,\"\",IF(B19>B21,A19,A21))","v":""},"s105",null,null,{"$f":"IF(F19=F21,\"\",IF(F19>F21,D19,D21))","v":""},"s205",null,null,{"$f":"IF(J19=J21,\"\",IF(J19>J21,H19,H21))","v":""},"s305",null,null,{"$f":"IF(N19=N21,\"\",IF(N19>N21,L19,L21))","v":""},"s405"]
[103,null,null,203,null,null,null,303,null,null,null,403,null,null,null,503]
[{"$f":"Anmeldung!H7","v":0},null,null,{"$f":"IF(B23=B25,\"\",IF(B23>B25,A23,A25))","v":""},"s106",null,null,{"$f":"IF(F23=F25,\"\",IF(F23>F25,D23,D25))","v":""},"s206",null,null,{"$f":"IF(J23=J25,\"\",IF(J23>J25,H23,H25))","v":""},"s306",null,null,{"$f":"IF(N23=N25,\"\",IF(N23>N25,L23,L25))","v":""},"s406"]
[]
[{"$f":"Anmeldung!H8","v":0},null,null,{"$f":"IF(B27=B29,\"\",IF(B27>B29,A27,A29))","v":""},"s107",null,null,{"$f":"IF(F27=F29,\"\",IF(F27>F29,D27,D29))","v":""},"s207",null,null,{"$f":"IF(J27=J29,\"\",IF(J27>J29,H27,H29))","v":""},"s307",null,null,{"$f":"IF(N27=N29,\"\",IF(N27>N29,L27,L29))","v":""},"s407"]
[104,null,null,204,null,null,null,304,null,null,null,404,null,null,null,504]
[{"$f":"Anmeldung!H9","v":0},null,null,{"$f":"IF(B3=B5,\"\",IF(B3<B5,A3,A5))","v":""},"v101",null,null,{"$f":"IF(F3=F5,\"\",IF(F3<F5,D3,D5))","v":""},"v201",null,null,{"$f":"IF(J3=J5,\"\",IF(J3<J5,H3,H5))","v":""},"v301",null,null,{"$f":"IF(N3=N5,\"\",IF(N3<N5,L3,L5))","v":""},"v401"]
[]
[{"$f":"Anmeldung!H10","v":0},null,null,{"$f":"IF(B7=B9,\"\",IF(B7<B9,A7,A9))","v":""},"v102",null,null,{"$f":"IF(F7=F9,\"\",IF(F7<F9,D7,D9))","v":""},"v202",null,null,{"$f":"IF(J7=J9,\"\",IF(J7<J9,H7,H9))","v":""},"v302",null,null,{"$f":"IF(N7=N9,\"\",IF(N7<N9,L7,L9))","v":""},"v402"]
[105,null,null,205,null,null,null,305,null,null,null,405,null,null,null,505]
[{"$f":"Anmeldung!H11","v":0},null,null,{"$f":"IF(B11=B13,\"\",IF(B11<B13,A11,A13))","v":""},"v103",null,null,{"$f":"IF(F11=F13,\"\",IF(F11<F13,D11,D13))","v":""},"v203",null,null,{"$f":"IF(J11=J13,\"\",IF(J11<J13,H11,H13))","v":""},"v303",null,null,{"$f":"IF(N11=N13,\"\",IF(N11<N13,L11,L13))","v":""},"v403"]
[]
[{"$f":"Anmeldung!H12","v":0},null,null,{"$f":"IF(B15=B17,\"\",IF(B15<B17,A15,A17))","v":""},"v104",null,null,{"$f":"IF(F15=F17,\"\",IF(F15<F17,D15,D17))","v":""},"v204",null,null,{"$f":"IF(J15=J17,\"\",IF(J15<J17,H15,H17))","v":""},"v304",null,null,{"$f":"IF(N15=N17,\"\",IF(N15<N17,L15,L17))","v":""},"v404"]
[106,null,null,206,null,null,null,306,null,null,null,406,null,null,null,506]
[{"$f":"Anmeldung!H13","v":0},null,null,{"$f":"IF(B19=B21,\"\",IF(B19<B21,A19,A21))","v":""},"v105",null,null,{"$f":"IF(F19=F21,\"\",IF(F19<F21,D19,D21))","v":""},"v205",null,null,{"$f":"IF(J19=J21,\"\",IF(J19<J21,H19,H21))","v":""},"v305",null,null,{"$f":"IF(N19=N21,\"\",IF(N19<N21,L19,L21))","v":""},"v405"]
[]
[{"$f":"Anmeldung!H14","v":0},null,null,{"$f":"IF(B23=B25,\"\",IF(B23<B25,A23,A25))","v":""},"v106",null,null,{"$f":"IF(F23=F25,\"\",IF(F23<F25,D23,D25))","v":""},"v206",null,null,{"$f":"IF(J23=J25,\"\",IF(J23<J25,H23,H25))","v":""},"v306",null,null,{"$f":"IF(N23=N25,\"\",IF(N23<N25,L23,L25))","v":""},"v406"]
[107,null,null,207,null,null,null,307,null,null,null,407,null,null,null,507]
[{"$f":"Anmeldung!H15","v":0},null,null,{"$f":"IF(B27=B29,\"\",IF(B27<B29,A27,A29))","v":""},"v107",null,null,{"$f":"IF(F27=F29,\"\",IF(F27<F29,D27,D29))","v":""},"v207",null,null,{"$f":"IF(J27=J29,\"\",IF(J27<J29,H27,H29))","v":""},"v307",null,null,{"$f":"IF(N27=N29,\"\",IF(N27<N29,L27,L29))","v":""},"v407"]

{"sheet":"16er Plan","index":6,"n_rows":33,"n_cols":18,"rows_kept":33,"cut":false,"hidden":true,"merged":[[31,12,31,13],[31,16,31,17],[27,16,27,17],[23,16,23,17],[23,12,23,13],[15,12,15,13],[3,16,3,17],[15,16,15,17],[19,16,19,17],[27,12,27,13],[19,12,19,13],[11,16,11,17],[7,16,7,17],[3,12,3,13],[7,12,7,13],[11,12,11,13],[27,8,27,9],[31,8,31,9],[3,4,3,5],[7,4,7,5],[11,4,11,5],[15,4,15,5],[19,4,19,5],[23,4,23,5],[27,4,27,5],[31,4,31,5],[3,8,3,9],[7,8,7,9],[11,8,11,9],[15,8,15,9],[19,8,19,9],[23,8,23,9]]}
["Durchgang 1","Erg",null,"Durchgang 2",null,"Erg",null,"Durchgang 3",null,"Erg",null,"Durchgang 4",null,"Erg",null,"Durchgang 5",null,"Erg"]
[]
[{"$f":"Anmeldung!H2","v":0},null,null,{"$f":"IF(B3=B5,\"\",IF(B3>B5,A3,A5))","v":""},"s101",null,null,{"$f":"IF(F3=F5,\"\",IF(F3>F5,D3,D5))","v":""},"s201",null,null,{"$f":"IF(J3=J5,\"\",IF(J3>J5,H3,H5))","v":""},"s301",null,null,{"$f":"IF(N3=N5,\"\",IF(N3>N5,L3,L5))","v":""},"s401"]
[101,null,null,201,null,null,null,301,null,null,null,401,null,null,null,501]
[{"$f":"Anmeldung!H3","v":0},null,null,{"$f":"IF(B7=B9,\"\",IF(B7>B9,A7,A9))","v":""},"s102",null,null,{"$f":"IF(F7=F9,\"\",IF(F7>F9,D7,D9))","v":""},"s202",null,null,{"$f":"IF(J7=J9,\"\",IF(J7>J9,H7,H9))","v":""},"s302",null,null,{"$f":"IF(N7=N9,\"\",IF(N7>N9,L7,L9))","v":""},"s402"]
[]
[{"$f":"Anmeldung!H4","v":0},null,null,{"$f":"IF(B11=B13,\"\",IF(B11>B13,A11,A13))","v":""},"s103",null,null,{"$f":"IF(F11=F13,\"\",IF(F11>F13,D11,D13))","v":""},"s203",null,null,{"$f":"IF(J11=J13,\"\",IF(J11>J13,H11,H13))","v":""},"s303",null,null,{"$f":"IF(N11=N13,\"\",IF(N11>N13,L11,L13))","v":""},"s403"]
[102,null,null,202,null,null,null,302,null,null,null,402,null,null,null,502]
[{"$f":"Anmeldung!H5","v":0},null,null,{"$f":"IF(B15=B17,\"\",IF(B15>B17,A15,A17))","v":""},"s104",null,null,{"$f":"IF(F15=F17,\"\",IF(F15>F17,D15,D17))","v":""},"s204",null,null,{"$f":"IF(J15=J17,\"\",IF(J15>J17,H15,H17))","v":""},"s304",null,null,{"$f":"IF(N15=N17,\"\",IF(N15>N17,L15,L17))","v":""},"s404"]
[]
[{"$f":"Anmeldung!H6","v":0},null,null,{"$f":"IF(B19=B21,\"\",IF(B19>B21,A19,A21))","v":""},"s105",null,null,{"$f":"IF(F19=F21,\"\",IF(F19>F21,D19,D21))","v":""},"s205",null,null,{"$f":"IF(J19=J21,\"\",IF(J19>J21,H19,H21))","v":""},"s305",null,null,{"$f":"IF(N19=N21,\"\",IF(N19>N21,L19,L21))","v":""},"s405"]
[103,null,null,203,null,null,null,303,null,null,null,403,null,null,null,503]
[{"$f":"Anmeldung!H7","v":0},null,null,{"$f":"IF(B23=B25,\"\",IF(B23>B25,A23,A25))","v":""},"s106",null,null,{"$f":"IF(F23=F25,\"\",IF(F23>F25,D23,D25))","v":""},"s206",null,null,{"$f":"IF(J23=J25,\"\",IF(J23>J25,H23,H25))","v":""},"s306",null,null,{"$f":"IF(N23=N25,\"\",IF(N23>N25,L23,L25))","v":""},"s406"]
[]
[{"$f":"Anmeldung!H8","v":0},null,null,{"$f":"IF(B27=B29,\"\",IF(B27>B29,A27,A29))","v":""},"s107",null,null,{"$f":"IF(F27=F29,\"\",IF(F27>F29,D27,D29))","v":""},"s207",null,null,{"$f":"IF(J27=J29,\"\",IF(J27>J29,H27,H29))","v":""},"s307",null,null,{"$f":"IF(N27=N29,\"\",IF(N27>N29,L27,L29))","v":""},"s407"]
[104,null,null,204,null,null,null,304,null,null,null,404,null,null,null,504]
[{"$f":"Anmeldung!H9","v":0},null,null,{"$f":"IF(B31=B33,\"\",IF(B31>B33,A31,A33))","v":""},"s108",null,null,{"$f":"IF(F31=F33,\"\",IF(F31>F33,D31,D33))","v":""},"s208",null,null,{"$f":"IF(J31=J33,\"\",IF(J31>J33,H31,H33))","v":""},"s308",null,null,{"$f":"IF(N31=N33,\"\",IF(N31>N33,L31,L33))","v":""},"s408"]
[]
[{"$f":"Anmeldung!H10","v":0},null,null,{"$f":"IF(B3=B5,\"\",IF(B3<B5,A3,A5))","v":""},"v101",null,null,{"$f":"IF(F3=F5,\"\",IF(F3<F5,D3,D5))","v":""},"v201",null,null,{"$f":"IF(J3=J5,\"\",IF(J3<J5,H3,H5))","v":""},"v301",null,null,{"$f":"IF(N3=N5,\"\",IF(N3<N5,L3,L5))","v":""},"v401"]
[105,null,null,205,null,null,null,305,null,null,null,405,null,null,null,505]
[{"$f":"Anmeldung!H11","v":0},null,null,{"$f":"IF(B7=B9,\"\",IF(B7<B9,A7,A9))","v":""},"v102",null,null,{"$f":"IF(F7=F9,\"\",IF(F7<F9,D7,D9))","v":""},"v202",null,null,{"$f":"IF(J7=J9,\"\",IF(J7<J9,H7,H9))","v":""},"v302",null,null,{"$f":"IF(N7=N9,\"\",IF(N7<N9,L7,L9))","v":""},"v402"]
[]
[{"$f":"Anmeldung!H12","v":0},null,null,{"$f":"IF(B11=B13,\"\",IF(B11<B13,A11,A13))","v":""},"v103",null,null,{"$f":"IF(F11=F13,\"\",IF(F11<F13,D11,D13))","v":""},"v203",null,null,{"$f":"IF(J11=J13,\"\",IF(J11<J13,H11,H13))","v":""},"v303",null,null,{"$f":"IF(N11=N13,\"\",IF(N11<N13,L11,L13))","v":""},"v403"]
[106,null,null,206,null,null,null,306,null,null,null,406,null,null,null,506]
[{"$f":"Anmeldung!H13","v":0},null,null,{"$f":"IF(B15=B17,\"\",IF(B15<B17,A15,A17))","v":""},"v104",null,null,{"$f":"IF(F15=F17,\"\",IF(F15<F17,D15,D17))","v":""},"v204",null,null,{"$f":"IF(J15=J17,\"\",IF(J15<J17,H15,H17))","v":""},"v304",null,null,{"$f":"IF(N15=N17,\"\",IF(N15<N17,L15,L17))","v":""},"v404"]
[]
[{"$f":"Anmeldung!H14","v":0},null,null,{"$f":"IF(B19=B21,\"\",IF(B19<B21,A19,A21))","v":""},"v105",null,null,{"$f":"IF(F19=F21,\"\",IF(F19<F21,D19,D21))","v":""},"v205",null,null,{"$f":"IF(J19=J21,\"\",IF(J19<J21,H19,H21))","v":""},"v305",null,null,{"$f":"IF(N19=N21,\"\",IF(N19<N21,L19,L21))","v":""},"v405"]
[107,null,null,207,null,null,null,307,null,null,null,407,null,null,null,507]
[{"$f":"Anmeldung!H15","v":0},null,null,{"$f":"IF(B23=B25,\"\",IF(B23<B25,A23,A25))","v":""},"v106",null,null,{"$f":"IF(F23=F25,\"\",IF(F23<F25,D23,D25))","v":""},"v206",null,null,{"$f":"IF(J23=J25,\"\",IF(J23<J25,H23,H25))","v":""},"v306",null,null,{"$f":"IF(N23=N25,\"\",IF(N23<N25,L23,L25))","v":""},"v406"]
[]
[{"$f":"Anmeldung!H16","v":0},null,null,{"$f":"IF(B27=B29,\"\",IF(B27<B29,A27,A29))","v":""},"v107",null,null,{"$f":"IF(F27=F29,\"\",IF(F27<F29,D27,D29))","v":""},"v207",null,null,{"$f":"IF(J27=J29,\"\",IF(J27<J29,H27,H29))","v":""},"v307",null,null,{"$f":"IF(N27=N29,\"\",IF(N27<N29,L27,L29))","v":""},"v407"]
[108,null,null,208,null,null,null,308,null,null,null,408,null,null,null,508]
[{"$f":"Anmeldung!H17","v":0},null,null,{"$f":"IF(B31=B33,\"\",IF(B31<B33,A31,A33))","v":""},"v108",null,null,{"$f":"IF(F31=F33,\"\",IF(F31<F33,D31,D33))","v":""},"v208",null,null,{"$f":"IF(J31=J33,\"\",IF(J31<J33,H31,H33))","v":""},"v308",null,null,{"$f":"IF(N31=N33,\"\",IF(N31<N33,L31,L33))","v":""},"v408"]

{"sheet":"18er Plan","index":7,"n_rows":37,"n_cols":18,"rows_kept":37,"cut":false,"hidden":true,"merged":[[39,4,39,5],[39,8,39,9],[39,12,39,13],[39,16,39,17],[35,4,35,5],[35,8,35,9],[35,12,35,13],[35,16,35,17],[31,4,31,5],[31,8,31,9],[31,12,31,13],[31,16,31,17],[27,4,27,5],[27,8,27,9],[27,12,27,13],[27,16,27,17],[23,4,23,5],[23,8,23,9],[23,12,23,13],[23,16,23,17],[19,4,19,5],[19,8,19,9],[19,12,19,13],[19,16,19,17],[15,4,15,5],[15,8,15,9],[15,12,15,13],[15,16,15,17],[11,4,11,5],[11,8,11,9],[11,12,11,13],[11,16,11,17],[7,4,7,5],[7,8,7,9],[7,12,7,13],[7,16,7,17],[3,4,3,5],[3,8,3,9],[3,12,3,13],[3,16,3,17]]}
["Durchgang 1","Erg",null,"Durchgang 2",null,"Erg",null,"Durchgang 3",null,"Erg",null,"Durchgang 4",null,"Erg",null,"Durchgang 5",null,"Erg"]
[]
[{"$f":"Anmeldung!H2","v":0},null,null,{"$f":"IF(B3=B5,\"\",IF(B3>B5,A3,A5))","v":""},"s101",null,null,{"$f":"IF(F3=F5,\"\",IF(F3>F5,D3,D5))","v":""},"s201",null,null,{"$f":"IF(J3=J5,\"\",IF(J3>J5,H3,H5))","v":""},"s301",null,null,{"$f":"IF(N3=N5,\"\",IF(N3>N5,L3,L5))","v":""},"s401"]
[101,null,null,201,null,null,null,301,null,null,null,401,null,null,null,501]
[{"$f":"Anmeldung!H3","v":0},null,null,{"$f":"IF(B7=B9,\"\",IF(B7>B9,A7,A9))","v":""},"s102",null,null,{"$f":"IF(F7=F9,\"\",IF(F7>F9,D7,D9))","v":""},"s202",null,null,{"$f":"IF(J7=J9,\"\",IF(J7>J9,H7,H9))","v":""},"s302",null,null,{"$f":"IF(N7=N9,\"\",IF(N7>N9,L7,L9))","v":""},"s402"]
[]
[{"$f":"Anmeldung!H4","v":0},null,null,{"$f":"IF(B11=B13,\"\",IF(B11>B13,A11,A13))","v":""},"s103",null,null,{"$f":"IF(F11=F13,\"\",IF(F11>F13,D11,D13))","v":""},"s203",null,null,{"$f":"IF(J11=J13,\"\",IF(J11>J13,H11,H13))","v":""},"s303",null,null,{"$f":"IF(N11=N13,\"\",IF(N11>N13,L11,L13))","v":""},"s403"]
[102,null,null,202,null,null,null,302,null,null,null,402,null,null,null,502]
[{"$f":"Anmeldung!H5","v":0},null,null,{"$f":"IF(B15=B17,\"\",IF(B15>B17,A15,A17))","v":""},"s104",null,null,{"$f":"IF(F15=F17,\"\",IF(F15>F17,D15,D17))","v":""},"s204",null,null,{"$f":"IF(J15=J17,\"\",IF(J15>J17,H15,H17))","v":""},"s304",null,null,{"$f":"IF(N15=N17,\"\",IF(N15>N17,L15,L17))","v":""},"s404"]
[]
[{"$f":"Anmeldung!H6","v":0},null,null,{"$f":"IF(B19=B21,\"\",IF(B19>B21,A19,A21))","v":""},"s105",null,null,{"$f":"IF(F19=F21,\"\",IF(F19>F21,D19,D21))","v":""},"s205",null,null,{"$f":"IF(J19=J21,\"\",IF(J19>J21,H19,H21))","v":""},"s305",null,null,{"$f":"IF(N19=N21,\"\",IF(N19>N21,L19,L21))","v":""},"s405"]
[103,null,null,203,null,null,null,303,null,null,null,403,null,null,null,503]
[{"$f":"Anmeldung!H7","v":0},null,null,{"$f":"IF(B23=B25,\"\",IF(B23>B25,A23,A25))","v":""},"s106",null,null,{"$f":"IF(F23=F25,\"\",IF(F23>F25,D23,D25))","v":""},"s206",null,null,{"$f":"IF(J23=J25,\"\",IF(J23>J25,H23,H25))","v":""},"s306",null,null,{"$f":"IF(N23=N25,\"\",IF(N23>N25,L23,L25))","v":""},"s406"]
[]
[{"$f":"Anmeldung!H8","v":0},null,null,{"$f":"IF(B27=B29,\"\",IF(B27>B29,A27,A29))","v":""},"s107",null,null,{"$f":"IF(F27=F29,\"\",IF(F27>F29,D27,D29))","v":""},"s207",null,null,{"$f":"IF(J27=J29,\"\",IF(J27>J29,H27,H29))","v":""},"s307",null,null,{"$f":"IF(N27=N29,\"\",IF(N27>N29,L27,L29))","v":""},"s407"]
[104,null,null,204,null,null,null,304,null,null,null,404,null,null,null,504]
[{"$f":"Anmeldung!H9","v":0},null,null,{"$f":"IF(B31=B33,\"\",IF(B31>B33,A31,A33))","v":""},"s108",null,null,{"$f":"IF(F31=F33,\"\",IF(F31>F33,D31,D33))","v":""},"s208",null,null,{"$f":"IF(J31=J33,\"\",IF(J31>J33,H31,H33))","v":""},"s308",null,null,{"$f":"IF(N31=N33,\"\",IF(N31>N33,L31,L33))","v":""},"s408"]
[]
[{"$f":"Anmeldung!H10","v":0},null,null,{"$f":"IF(B35=B37,\"\",IF(B35>B37,A35,A37))","v":""},"s109",null,null,{"$f":"IF(F35=F37,\"\",IF(F35>F37,D35,D37))","v":""},"s209",null,null,{"$f":"IF(J35=J37,\"\",IF(J35>J37,H35,H37))","v":""},"s309",null,null,{"$f":"IF(N35=N37,\"\",IF(N35>N37,L35,L37))","v":""},"s409"]
[105,null,null,205,null,null,null,305,null,null,null,405,null,null,null,505]
[{"$f":"Anmeldung!H11","v":0},null,null,{"$f":"IF(B3=B5,\"\",IF(B3<B5,A3,A5))","v":""},"v101",null,null,{"$f":"IF(F3=F5,\"\",IF(F3<F5,D3,D5))","v":""},"v201",null,null,{"$f":"IF(J3=J5,\"\",IF(J3<J5,H3,H5))","v":""},"v301",null,null,{"$f":"IF(N3=N5,\"\",IF(N3<N5,L3,L5))","v":""},"v401"]
[]
[{"$f":"Anmeldung!H12","v":0},null,null,{"$f":"IF(B7=B9,\"\",IF(B7<B9,A7,A9))","v":""},"v102",null,null,{"$f":"IF(F7=F9,\"\",IF(F7<F9,D7,D9))","v":""},"v202",null,null,{"$f":"IF(J7=J9,\"\",IF(J7<J9,H7,H9))","v":""},"v302",null,null,{"$f":"IF(N7=N9,\"\",IF(N7<N9,L7,L9))","v":""},"v402"]
[106,null,null,206,null,null,null,306,null,null,null,406,null,null,null,506]
[{"$f":"Anmeldung!H13","v":0},null,null,{"$f":"IF(B11=B13,\"\",IF(B11<B13,A11,A13))","v":""},"v103",null,null,{"$f":"IF(F11=F13,\"\",IF(F11<F13,D11,D13))","v":""},"v203",null,null,{"$f":"IF(J11=J13,\"\",IF(J11<J13,H11,H13))","v":""},"v303",null,null,{"$f":"IF(N11=N13,\"\",IF(N11<N13,L11,L13))","v":""},"v403"]
[]
[{"$f":"Anmeldung!H14","v":0},null,null,{"$f":"IF(B15=B17,\"\",IF(B15<B17,A15,A17))","v":""},"v104",null,null,{"$f":"IF(F15=F17,\"\",IF(F15<F17,D15,D17))","v":""},"v204",null,null,{"$f":"IF(J15=J17,\"\",IF(J15<J17,H15,H17))","v":""},"v304",null,null,{"$f":"IF(N15=N17,\"\",IF(N15<N17,L15,L17))","v":""},"v404"]
[107,null,null,207,null,null,null,307,null,null,null,407,null,null,null,507]
[{"$f":"Anmeldung!H15","v":0},null,null,{"$f":"IF(B19=B21,\"\",IF(B19<B21,A19,A21))","v":""},"v105",null,null,{"$f":"IF(F19=F21,\"\",IF(F19<F21,D19,D21))","v":""},"v205",null,null,{"$f":"IF(J19=J21,\"\",IF(J19<J21,H19,H21))","v":""},"v305",null,null,{"$f":"IF(N19=N21,\"\",IF(N19<N21,L19,L21))","v":""},"v405"]
[]
[{"$f":"Anmeldung!H16","v":0},null,null,{"$f":"IF(B23=B25,\"\",IF(B23<B25,A23,A25))","v":""},"v106",null,null,{"$f":"IF(F23=F25,\"\",IF(F23<F25,D23,D25))","v":""},"v206",null,null,{"$f":"IF(J23=J25,\"\",IF(J23<J25,H23,H25))","v":""},"v306",null,null,{"$f":"IF(N23=N25,\"\",IF(N23<N25,L23,L25))","v":""},"v406"]
[108,null,null,208,null,null,null,308,null,null,null,408,null,null,null,508]
[{"$f":"Anmeldung!H17","v":0},null,null,{"$f":"IF(B27=B29,\"\",IF(B27<B29,A27,A29))","v":""},"v107",null,null,{"$f":"IF(F27=F29,\"\",IF(F27<F29,D27,D29))","v":""},"v207",null,null,{"$f":"IF(J27=J29,\"\",IF(J27<J29,H27,H29))","v":""},"v307",null,null,{"$f":"IF(N27=N29,\"\",IF(N27<N29,L27,L29))","v":""},"v407"]
[]
[{"$f":"Anmeldung!H18","v":0},null,null,{"$f":"IF(B31=B33,\"\",IF(B31<B33,A31,A33))","v":""},"v108",null,null,{"$f":"IF(F31=F33,\"\",IF(F31<F33,D31,D33))","v":""},"v208",null,null,{"$f":"IF(J31=J33,\"\",IF(J31<J33,H31,H33))","v":""},"v308",null,null,{"$f":"IF(N31=N33,\"\",IF(N31<N33,L31,L33))","v":""},"v408"]
[109,null,null,209,null,null,null,309,null,null,null,409,null,null,null,509]
[{"$f":"Anmeldung!H19","v":0},null,null,{"$f":"IF(B35=B37,\"\",IF(B35<B37,A35,A37))","v":""},"v109",null,null,{"$f":"IF(F35=F37,\"\",IF(F35<F37,D35,D37))","v":""},"v209",null,null,{"$f":"IF(J35=J37,\"\",IF(J35<J37,H35,H37))","v":""},"v309",null,null,{"$f":"IF(N35=N37,\"\",IF(N35<N37,L35,L37))","v":""},"v409"]

{"sheet":"20er Plan","index":8,"n_rows":41,"n_cols":18,"rows_kept":41,"cut":false,"hidden":true,"merged":[[19,12,19,13],[7,12,7,13],[3,12,3,13],[7,16,7,17],[35,12,35,13],[31,12,31,13],[27,12,27,13],[23,12,23,13],[35,16,35,17],[39,16,39,17],[23,16,23,17],[27,16,27,17],[31,16,31,17],[19,16,19,17],[3,16,3,17],[15,12,15,13],[11,12,11,13],[11,16,11,17],[15,16,15,17],[27,8,27,9],[31,8,31,9],[35,8,35,9],[39,8,39,9],[39,12,39,13],[3,4,3,5],[3,8,3,9],[7,8,7,9],[23,4,23,5],[19,4,19,5],[15,4,15,5],[11,4,11,5],[11,8,11,9],[15,8,15,9],[19,8,19,9],[23,8,23,9],[39,4,39,5],[35,4,35,5],[31,4,31,5],[27,4,27,5],[7,4,7,5]]}
["Durchgang 1","Erg",null,"Durchgang 2",null,"Erg",null,"Durchgang 3",null,"Erg",null,"Durchgang 4",null,"Erg",null,"Durchgang 5",null,"Erg"]
[]
[{"$f":"Anmeldung!H2","v":0},null,null,{"$f":"IF(B3=B5,\"\",IF(B3>B5,A3,A5))","v":""},"s101",null,null,{"$f":"IF(F3=F5,\"\",IF(F3>F5,D3,D5))","v":""},"s201",null,null,{"$f":"IF(J3=J5,\"\",IF(J3>J5,H3,H5))","v":""},"s301",null,null,{"$f":"IF(N3=N5,\"\",IF(N3>N5,L3,L5))","v":""},"s401"]
[101,null,null,201,null,null,null,301,null,null,null,401,null,null,null,501]
[{"$f":"Anmeldung!H3","v":0},null,null,{"$f":"IF(B7=B9,\"\",IF(B7>B9,A7,A9))","v":""},"s102",null,null,{"$f":"IF(F7=F9,\"\",IF(F7>F9,D7,D9))","v":""},"s202",null,null,{"$f":"IF(J7=J9,\"\",IF(J7>J9,H7,H9))","v":""},"s302",null,null,{"$f":"IF(N7=N9,\"\",IF(N7>N9,L7,L9))","v":""},"s402"]
[]
[{"$f":"Anmeldung!H4","v":0},null,null,{"$f":"IF(B11=B13,\"\",IF(B11>B13,A11,A13))","v":""},"s103",null,null,{"$f":"IF(F11=F13,\"\",IF(F11>F13,D11,D13))","v":""},"s203",null,null,{"$f":"IF(J11=J13,\"\",IF(J11>J13,H11,H13))","v":""},"s303",null,null,{"$f":"IF(N11=N13,\"\",IF(N11>N13,L11,L13))","v":""},"s403"]
[102,null,null,202,null,null,null,302,null,null,null,402,null,null,null,502]
[{"$f":"Anmeldung!H5","v":0},null,null,{"$f":"IF(B15=B17,\"\",IF(B15>B17,A15,A17))","v":""},"s104",null,null,{"$f":"IF(F15=F17,\"\",IF(F15>F17,D15,D17))","v":""},"s204",null,null,{"$f":"IF(J15=J17,\"\",IF(J15>J17,H15,H17))","v":""},"s304",null,null,{"$f":"IF(N15=N17,\"\",IF(N15>N17,L15,L17))","v":""},"s404"]
[]
[{"$f":"Anmeldung!H6","v":0},null,null,{"$f":"IF(B19=B21,\"\",IF(B19>B21,A19,A21))","v":""},"s105",null,null,{"$f":"IF(F19=F21,\"\",IF(F19>F21,D19,D21))","v":""},"s205",null,null,{"$f":"IF(J19=J21,\"\",IF(J19>J21,H19,H21))","v":""},"s305",null,null,{"$f":"IF(N19=N21,\"\",IF(N19>N21,L19,L21))","v":""},"s405"]
[103,null,null,203,null,null,null,303,null,null,null,403,null,null,null,503]
[{"$f":"Anmeldung!H7","v":0},null,null,{"$f":"IF(B23=B25,\"\",IF(B23>B25,A23,A25))","v":""},"s106",null,null,{"$f":"IF(F23=F25,\"\",IF(F23>F25,D23,D25))","v":""},"s206",null,null,{"$f":"IF(J23=J25,\"\",IF(J23>J25,H23,H25))","v":""},"s306",null,null,{"$f":"IF(N23=N25,\"\",IF(N23>N25,L23,L25))","v":""},"s406"]
[]
[{"$f":"Anmeldung!H8","v":0},null,null,{"$f":"IF(B27=B29,\"\",IF(B27>B29,A27,A29))","v":""},"s107",null,null,{"$f":"IF(F27=F29,\"\",IF(F27>F29,D27,D29))","v":""},"s207",null,null,{"$f":"IF(J27=J29,\"\",IF(J27>J29,H27,H29))","v":""},"s307",null,null,{"$f":"IF(N27=N29,\"\",IF(N27>N29,L27,L29))","v":""},"s407"]
[104,null,null,204,null,null,null,304,null,null,null,404,null,null,null,504]
[{"$f":"Anmeldung!H9","v":0},null,null,{"$f":"IF(B31=B33,\"\",IF(B31>B33,A31,A33))","v":""},"s108",null,null,{"$f":"IF(F31=F33,\"\",IF(F31>F33,D31,D33))","v":""},"s208",null,null,{"$f":"IF(J31=J33,\"\",IF(J31>J33,H31,H33))","v":""},"s308",null,null,{"$f":"IF(N31=N33,\"\",IF(N31>N33,L31,L33))","v":""},"s408"]
[]
[{"$f":"Anmeldung!H10","v":0},null,null,{"$f":"IF(B35=B37,\"\",IF(B35>B37,A35,A37))","v":""},"s109",null,null,{"$f":"IF(F35=F37,\"\",IF(F35>F37,D35,D37))","v":""},"s209",null,null,{"$f":"IF(J35=J37,\"\",IF(J35>J37,H35,H37))","v":""},"s309",null,null,{"$f":"IF(N35=N37,\"\",IF(N35>N37,L35,L37))","v":""},"s409"]
[105,null,null,205,null,null,null,305,null,null,null,405,null,null,null,505]
[{"$f":"Anmeldung!H11","v":0},null,null,{"$f":"IF(B39=B41,\"\",IF(B39>B41,A39,A41))","v":""},"s110",null,null,{"$f":"IF(F39=F41,\"\",IF(F39>F41,D39,D41))","v":""},"s210",null,null,{"$f":"IF(J39=J41,\"\",IF(J39>J41,H39,H41))","v":""},"s310",null,null,{"$f":"IF(N39=N41,\"\",IF(N39>N41,L39,L41))","v":""},"s410"]
[]
[{"$f":"Anmeldung!H12","v":0},null,null,{"$f":"IF(B3=B5,\"\",IF(B3<B5,A3,A5))","v":""},"v101",null,null,{"$f":"IF(F3=F5,\"\",IF(F3<F5,D3,D5))","v":""},"v201",null,null,{"$f":"IF(J3=J5,\"\",IF(J3<J5,H3,H5))","v":""},"v301",null,null,{"$f":"IF(N3=N5,\"\",IF(N3<N5,L3,L5))","v":""},"v401"]
[106,null,null,206,null,null,null,306,null,null,null,406,null,null,null,506]
[{"$f":"Anmeldung!H13","v":0},null,null,{"$f":"IF(B7=B9,\"\",IF(B7<B9,A7,A9))","v":""},"v102",null,null,{"$f":"IF(F7=F9,\"\",IF(F7<F9,D7,D9))","v":""},"v202",null,null,{"$f":"IF(J7=J9,\"\",IF(J7<J9,H7,H9))","v":""},"v302",null,null,{"$f":"IF(N7=N9,\"\",IF(N7<N9,L7,L9))","v":""},"v402"]
[]
[{"$f":"Anmeldung!H14","v":0},null,null,{"$f":"IF(B11=B13,\"\",IF(B11<B13,A11,A13))","v":""},"v103",null,null,{"$f":"IF(F11=F13,\"\",IF(F11<F13,D11,D13))","v":""},"v203",null,null,{"$f":"IF(J11=J13,\"\",IF(J11<J13,H11,H13))","v":""},"v303",null,null,{"$f":"IF(N11=N13,\"\",IF(N11<N13,L11,L13))","v":""},"v403"]
[107,null,null,207,null,null,null,307,null,null,null,407,null,null,null,507]
[{"$f":"Anmeldung!H15","v":0},null,null,{"$f":"IF(B15=B17,\"\",IF(B15<B17,A15,A17))","v":""},"v104",null,null,{"$f":"IF(F15=F17,\"\",IF(F15<F17,D15,D17))","v":""},"v204",null,null,{"$f":"IF(J15=J17,\"\",IF(J15<J17,H15,H17))","v":""},"v304",null,null,{"$f":"IF(N15=N17,\"\",IF(N15<N17,L15,L17))","v":""},"v404"]
[]
[{"$f":"Anmeldung!H16","v":0},null,null,{"$f":"IF(B19=B21,\"\",IF(B19<B21,A19,A21))","v":""},"v105",null,null,{"$f":"IF(F19=F21,\"\",IF(F19<F21,D19,D21))","v":""},"v205",null,null,{"$f":"IF(J19=J21,\"\",IF(J19<J21,H19,H21))","v":""},"v305",null,null,{"$f":"IF(N19=N21,\"\",IF(N19<N21,L19,L21))","v":""},"v405"]
[108,null,null,208,null,null,null,308,null,null,null,408,null,null,null,508]
[{"$f":"Anmeldung!H17","v":0},null,null,{"$f":"IF(B23=B25,\"\",IF(B23<B25,A23,A25))","v":""},"v106",null,null,{"$f":"IF(F23=F25,\"\",IF(F23<F25,D23,D25))","v":""},"v206",null,null,{"$f":"IF(J23=J25,\"\",IF(J23<J25,H23,H25))","v":""},"v306",null,null,{"$f":"IF(N23=N25,\"\",IF(N23<N25,L23,L25))","v":""},"v406"]
[]
[{"$f":"Anmeldung!H18","v":0},null,null,{"$f":"IF(B27=B29,\"\",IF(B27<B29,A27,A29))","v":""},"v107",null,null,{"$f":"IF(F27=F29,\"\",IF(F27<F29,D27,D29))","v":""},"v207",null,null,{"$f":"IF(J27=J29,\"\",IF(J27<J29,H27,H29))","v":""},"v307",null,null,{"$f":"IF(N27=N29,\"\",IF(N27<N29,L27,L29))","v":""},"v407"]
[109,null,null,209,null,null,null,309,null,null,null,409,null,null,null,509]
[{"$f":"Anmeldung!H19","v":0},null,null,{"$f":"IF(B31=B33,\"\",IF(B31<B33,A31,A33))","v":""},"v108",null,null,{"$f":"IF(F31=F33,\"\",IF(F31<F33,D31,D33))","v":""},"v208",null,null,{"$f":"IF(J31=J33,\"\",IF(J31<J33,H31,H33))","v":""},"v308",null,null,{"$f":"IF(N31=N33,\"\",IF(N31<N33,L31,L33))","v":""},"v408"]
[]
[{"$f":"Anmeldung!H20","v":0},null,null,{"$f":"IF(B35=B37,\"\",IF(B35<B37,A35,A37))","v":""},"v109",null,null,{"$f":"IF(F35=F37,\"\",IF(F35<F37,D35,D37))","v":""},"v209",null,null,{"$f":"IF(J35=J37,\"\",IF(J35<J37,H35,H37))","v":""},"v309",null,null,{"$f":"IF(N35=N37,\"\",IF(N35<N37,L35,L37))","v":""},"v409"]
[110,null,null,210,null,null,null,310,null,null,null,410,null,null,null,510]
[{"$f":"Anmeldung!H21","v":0},null,null,{"$f":"IF(B39=B41,\"\",IF(B39<B41,A39,A41))","v":""},"v110",null,null,{"$f":"IF(F39=F41,\"\",IF(F39<F41,D39,D41))","v":""},"v210",null,null,{"$f":"IF(J39=J41,\"\",IF(J39<J41,H39,H41))","v":""},"v310",null,null,{"$f":"IF(N39=N41,\"\",IF(N39<N41,L39,L41))","v":""},"v410"]

{"sheet":"22er Plan","index":9,"n_rows":45,"n_cols":18,"rows_kept":45,"cut":false,"hidden":true,"merged":[[47,4,47,5],[47,8,47,9],[47,12,47,13],[47,16,47,17],[43,4,43,5],[43,8,43,9],[43,12,43,13],[43,16,43,17],[39,4,39,5],[39,8,39,9],[39,12,39,13],[39,16,39,17],[35,4,35,5],[35,8,35,9],[35,12,35,13],[35,16,35,17],[31,4,31,5],[31,8,31,9],[31,12,31,13],[31,16,31,17],[27,4,27,5],[27,8,27,9],[27,12,27,13],[27,16,27,17],[23,4,23,5],[23,8,23,9],[23,12,23,13],[23,16,23,17],[19,4,19,5],[19,8,19,9],[19,12,19,13],[19,16,19,17],[15,4,15,5],[15,8,15,9],[15,12,15,13],[15,16,15,17],[11,4,11,5],[11,8,11,9],[11,12,11,13],[11,16,11,17],[7,4,7,5],[7,8,7,9],[7,12,7,13],[7,16,7,17],[3,4,3,5],[3,8,3,9],[3,12,3,13],[3,16,3,17]]}
["Durchgang 1","Erg",null,"Durchgang 2",null,"Erg",null,"Durchgang 3",null,"Erg",null,"Durchgang 4",null,"Erg",null,"Durchgang 5",null,"Erg"]
[]
[{"$f":"Anmeldung!H2","v":0},null,null,{"$f":"IF(B3=B5,\"\",IF(B3>B5,A3,A5))","v":""},"s101",null,null,{"$f":"IF(F3=F5,\"\",IF(F3>F5,D3,D5))","v":""},"s201",null,null,{"$f":"IF(J3=J5,\"\",IF(J3>J5,H3,H5))","v":""},"s301",null,null,{"$f":"IF(N3=N5,\"\",IF(N3>N5,L3,L5))","v":""},"s401"]
[101,null,null,201,null,null,null,301,null,null,null,401,null,null,null,501]
[{"$f":"Anmeldung!H3","v":0},null,null,{"$f":"IF(B7=B9,\"\",IF(B7>B9,A7,A9))","v":""},"s102",null,null,{"$f":"IF(F7=F9,\"\",IF(F7>F9,D7,D9))","v":""},"s202",null,null,{"$f":"IF(J7=J9,\"\",IF(J7>J9,H7,H9))","v":""},"s302",null,null,{"$f":"IF(N7=N9,\"\",IF(N7>N9,L7,L9))","v":""},"s402"]
[]
[{"$f":"Anmeldung!H4","v":0},null,null,{"$f":"IF(B11=B13,\"\",IF(B11>B13,A11,A13))","v":""},"s103",null,null,{"$f":"IF(F11=F13,\"\",IF(F11>F13,D11,D13))","v":""},"s203",null,null,{"$f":"IF(J11=J13,\"\",IF(J11>J13,H11,H13))","v":""},"s303",null,null,{"$f":"IF(N11=N13,\"\",IF(N11>N13,L11,L13))","v":""},"s403"]
[102,null,null,202,null,null,null,302,null,null,null,402,null,null,null,502]
[{"$f":"Anmeldung!H5","v":0},null,null,{"$f":"IF(B15=B17,\"\",IF(B15>B17,A15,A17))","v":""},"s104",null,null,{"$f":"IF(F15=F17,\"\",IF(F15>F17,D15,D17))","v":""},"s204",null,null,{"$f":"IF(J15=J17,\"\",IF(J15>J17,H15,H17))","v":""},"s304",null,null,{"$f":"IF(N15=N17,\"\",IF(N15>N17,L15,L17))","v":""},"s404"]
[]
[{"$f":"Anmeldung!H6","v":0},null,null,{"$f":"IF(B19=B21,\"\",IF(B19>B21,A19,A21))","v":""},"s105",null,null,{"$f":"IF(F19=F21,\"\",IF(F19>F21,D19,D21))","v":""},"s205",null,null,{"$f":"IF(J19=J21,\"\",IF(J19>J21,H19,H21))","v":""},"s305",null,null,{"$f":"IF(N19=N21,\"\",IF(N19>N21,L19,L21))","v":""},"s405"]
[103,null,null,203,null,null,null,303,null,null,null,403,null,null,null,503]
[{"$f":"Anmeldung!H7","v":0},null,null,{"$f":"IF(B23=B25,\"\",IF(B23>B25,A23,A25))","v":""},"s106",null,null,{"$f":"IF(F23=F25,\"\",IF(F23>F25,D23,D25))","v":""},"s206",null,null,{"$f":"IF(J23=J25,\"\",IF(J23>J25,H23,H25))","v":""},"s306",null,null,{"$f":"IF(N23=N25,\"\",IF(N23>N25,L23,L25))","v":""},"s406"]
[]
[{"$f":"Anmeldung!H8","v":0},null,null,{"$f":"IF(B27=B29,\"\",IF(B27>B29,A27,A29))","v":""},"s107",null,null,{"$f":"IF(F27=F29,\"\",IF(F27>F29,D27,D29))","v":""},"s207",null,null,{"$f":"IF(J27=J29,\"\",IF(J27>J29,H27,H29))","v":""},"s307",null,null,{"$f":"IF(N27=N29,\"\",IF(N27>N29,L27,L29))","v":""},"s407"]
[104,null,null,204,null,null,null,304,null,null,null,404,null,null,null,504]
[{"$f":"Anmeldung!H9","v":0},null,null,{"$f":"IF(B31=B33,\"\",IF(B31>B33,A31,A33))","v":""},"s108",null,null,{"$f":"IF(F31=F33,\"\",IF(F31>F33,D31,D33))","v":""},"s208",null,null,{"$f":"IF(J31=J33,\"\",IF(J31>J33,H31,H33))","v":""},"s308",null,null,{"$f":"IF(N31=N33,\"\",IF(N31>N33,L31,L33))","v":""},"s408"]
[]
[{"$f":"Anmeldung!H10","v":0},null,null,{"$f":"IF(B35=B37,\"\",IF(B35>B37,A35,A37))","v":""},"s109",null,null,{"$f":"IF(F35=F37,\"\",IF(F35>F37,D35,D37))","v":""},"s209",null,null,{"$f":"IF(J35=J37,\"\",IF(J35>J37,H35,H37))","v":""},"s309",null,null,{"$f":"IF(N35=N37,\"\",IF(N35>N37,L35,L37))","v":""},"s409"]
[105,null,null,205,null,null,null,305,null,null,null,405,null,null,null,505]
[{"$f":"Anmeldung!H11","v":0},null,null,{"$f":"IF(B39=B41,\"\",IF(B39>B41,A39,A41))","v":""},"s110",null,null,{"$f":"IF(F39=F41,\"\",IF(F39>F41,D39,D41))","v":""},"s210",null,null,{"$f":"IF(J39=J41,\"\",IF(J39>J41,H39,H41))","v":""},"s310",null,null,{"$f":"IF(N39=N41,\"\",IF(N39>N41,L39,L41))","v":""},"s410"]
[]
[{"$f":"Anmeldung!H12","v":0},null,null,{"$f":"IF(B43=B45,\"\",IF(B43>B45,A43,A45))","v":""},"s111",null,null,{"$f":"IF(F43=F45,\"\",IF(F43>F45,D43,D45))","v":""},"s211",null,null,{"$f":"IF(J43=J45,\"\",IF(J43>J45,H43,H45))","v":""},"s311",null,null,{"$f":"IF(N43=N45,\"\",IF(N43>N45,L43,L45))","v":""},"s411"]
[106,null,null,206,null,null,null,306,null,null,null,406,null,null,null,506]
[{"$f":"Anmeldung!H13","v":0},null,null,{"$f":"IF(B3=B5,\"\",IF(B3<B5,A3,A5))","v":""},"s112",null,null,{"$f":"IF(F3=F5,\"\",IF(F3<F5,D3,D5))","v":""},"s212",null,null,{"$f":"IF(J3=J5,\"\",IF(J3<J5,H3,H5))","v":""},"s312",null,null,{"$f":"IF(N3=N5,\"\",IF(N3<N5,L3,L5))","v":""},"s412"]
[]
[{"$f":"Anmeldung!H14","v":0},null,null,{"$f":"IF(B7=B9,\"\",IF(B7<B9,A7,A9))","v":""},"v101",null,null,{"$f":"IF(F7=F9,\"\",IF(F7<F9,D7,D9))","v":""},"v201",null,null,{"$f":"IF(J7=J9,\"\",IF(J7<J9,H7,H9))","v":""},"v301",null,null,{"$f":"IF(N7=N9,\"\",IF(N7<N9,L7,L9))","v":""},"v401"]
[107,null,null,207,null,null,null,307,null,null,null,407,null,null,null,507]
[{"$f":"Anmeldung!H15","v":0},null,null,{"$f":"IF(B11=B13,\"\",IF(B11<B13,A11,A13))","v":""},"v102",null,null,{"$f":"IF(F11=F13,\"\",IF(F11<F13,D11,D13))","v":""},"v202",null,null,{"$f":"IF(J11=J13,\"\",IF(J11<J13,H11,H13))","v":""},"v302",null,null,{"$f":"IF(N11=N13,\"\",IF(N11<N13,L11,L13))","v":""},"v402"]
[]
[{"$f":"Anmeldung!H16","v":0},null,null,{"$f":"IF(B15=B17,\"\",IF(B15<B17,A15,A17))","v":""},"v103",null,null,{"$f":"IF(F15=F17,\"\",IF(F15<F17,D15,D17))","v":""},"v203",null,null,{"$f":"IF(J15=J17,\"\",IF(J15<J17,H15,H17))","v":""},"v303",null,null,{"$f":"IF(N15=N17,\"\",IF(N15<N17,L15,L17))","v":""},"v403"]
[108,null,null,208,null,null,null,308,null,null,null,408,null,null,null,508]
[{"$f":"Anmeldung!H17","v":0},null,null,{"$f":"IF(B19=B21,\"\",IF(B19<B21,A19,A21))","v":""},"v104",null,null,{"$f":"IF(F19=F21,\"\",IF(F19<F21,D19,D21))","v":""},"v204",null,null,{"$f":"IF(J19=J21,\"\",IF(J19<J21,H19,H21))","v":""},"v304",null,null,{"$f":"IF(N19=N21,\"\",IF(N19<N21,L19,L21))","v":""},"v404"]
[]
[{"$f":"Anmeldung!H18","v":0},null,null,{"$f":"IF(B23=B25,\"\",IF(B23<B25,A23,A25))","v":""},"v105",null,null,{"$f":"IF(F23=F25,\"\",IF(F23<F25,D23,D25))","v":""},"v205",null,null,{"$f":"IF(J23=J25,\"\",IF(J23<J25,H23,H25))","v":""},"v305",null,null,{"$f":"IF(N23=N25,\"\",IF(N23<N25,L23,L25))","v":""},"v405"]
[109,null,null,209,null,null,null,309,null,null,null,409,null,null,null,509]
[{"$f":"Anmeldung!H19","v":0},null,null,{"$f":"IF(B27=B29,\"\",IF(B27<B29,A27,A29))","v":""},"v106",null,null,{"$f":"IF(F27=F29,\"\",IF(F27<F29,D27,D29))","v":""},"v206",null,null,{"$f":"IF(J27=J29,\"\",IF(J27<J29,H27,H29))","v":""},"v306",null,null,{"$f":"IF(N27=N29,\"\",IF(N27<N29,L27,L29))","v":""},"v406"]
[]
[{"$f":"Anmeldung!H20","v":0},null,null,{"$f":"IF(B31=B33,\"\",IF(B31<B33,A31,A33))","v":""},"v107",null,null,{"$f":"IF(F31=F33,\"\",IF(F31<F33,D31,D33))","v":""},"v207",null,null,{"$f":"IF(J31=J33,\"\",IF(J31<J33,H31,H33))","v":""},"v307",null,null,{"$f":"IF(N31=N33,\"\",IF(N31<N33,L31,L33))","v":""},"v407"]
[110,null,null,210,null,null,null,310,null,null,null,410,null,null,null,510]
[{"$f":"Anmeldung!H21","v":0},null,null,{"$f":"IF(B35=B37,\"\",IF(B35<B37,A35,A37))","v":""},"v108",null,null,{"$f":"IF(F35=F37,\"\",IF(F35<F37,D35,D37))","v":""},"v208",null,null,{"$f":"IF(J35=J37,\"\",IF(J35<J37,H35,H37))","v":""},"v308",null,null,{"$f":"IF(N35=N37,\"\",IF(N35<N37,L35,L37))","v":""},"v408"]
[]
[{"$f":"Anmeldung!H22","v":0},null,null,{"$f":"IF(B39=B41,\"\",IF(B39<B41,A39,A41))","v":""},"v109",null,null,{"$f":"IF(F39=F41,\"\",IF(F39<F41,D39,D41))","v":""},"v209",null,null,{"$f":"IF(J39=J41,\"\",IF(J39<J41,H39,H41))","v":""},"v309",null,null,{"$f":"IF(N39=N41,\"\",IF(N39<N41,L39,L41))","v":""},"v409"]
[111,null,null,211,null,null,null,211,null,null,null,411,null,null,null,511]
[{"$f":"Anmeldung!H23","v":0},null,null,{"$f":"IF(B43=B45,\"\",IF(B43<B45,A43,A45))","v":""},"v110",null,null,{"$f":"IF(F43=F45,\"\",IF(F43<F45,D43,D45))","v":""},"v210",null,null,{"$f":"IF(J43=J45,\"\",IF(J43<J45,H43,H45))","v":""},"v310",null,null,{"$f":"IF(N43=N45,\"\",IF(N43<N45,L43,L45))","v":""},"v410"]

{"sheet":"24er Plan","index":10,"n_rows":49,"n_cols":18,"rows_kept":49,"cut":false,"hidden":true,"merged":[[43,12,43,13],[43,16,43,17],[47,12,47,13],[47,16,47,17],[35,12,35,13],[35,16,35,17],[39,12,39,13],[39,16,39,17],[27,12,27,13],[27,16,27,17],[31,12,31,13],[31,16,31,17],[19,12,19,13],[19,16,19,17],[23,12,23,13],[23,16,23,17],[3,12,3,13],[15,12,15,13],[3,16,3,17],[7,12,7,13],[7,16,7,17],[11,12,11,13],[11,16,11,17],[15,16,15,17],[15,8,15,9],[11,8,11,9],[7,8,7,9],[3,8,3,9],[31,8,31,9],[27,8,27,9],[23,8,23,9],[19,8,19,9],[47,8,47,9],[43,8,43,9],[39,8,39,9],[35,8,35,9],[35,4,35,5],[39,4,39,5],[43,4,43,5],[47,4,47,5],[19,4,19,5],[23,4,23,5],[27,4,27,5],[31,4,31,5],[3,4,3,5],[7,4,7,5],[11,4,11,5],[15,4,15,5]]}
["Durchgang 1","Erg",null,"Durchgang 2",null,"Erg",null,"Durchgang 3",null,"Erg",null,"Durchgang 4",null,"Erg",null,"Durchgang 5",null,"Erg"]
[]
[{"$f":"Anmeldung!H2","v":0},null,null,{"$f":"IF(B3=B5,\"\",IF(B3>B5,A3,A5))","v":""},"s101",null,null,{"$f":"IF(F3=F5,\"\",IF(F3>F5,D3,D5))","v":""},"s201",null,null,{"$f":"IF(J3=J5,\"\",IF(J3>J5,H3,H5))","v":""},"s301",null,null,{"$f":"IF(N3=N5,\"\",IF(N3>N5,L3,L5))","v":""},"s401"]
[101,null,null,201,null,null,null,301,null,null,null,401,null,null,null,501]
[{"$f":"Anmeldung!H3","v":0},null,null,{"$f":"IF(B7=B9,\"\",IF(B7>B9,A7,A9))","v":""},"s102",null,null,{"$f":"IF(F7=F9,\"\",IF(F7>F9,D7,D9))","v":""},"s202",null,null,{"$f":"IF(J7=J9,\"\",IF(J7>J9,H7,H9))","v":""},"s302",null,null,{"$f":"IF(N7=N9,\"\",IF(N7>N9,L7,L9))","v":""},"s402"]
[]
[{"$f":"Anmeldung!H4","v":0},null,null,{"$f":"IF(B11=B13,\"\",IF(B11>B13,A11,A13))","v":""},"s103",null,null,{"$f":"IF(F11=F13,\"\",IF(F11>F13,D11,D13))","v":""},"s203",null,null,{"$f":"IF(J11=J13,\"\",IF(J11>J13,H11,H13))","v":""},"s303",null,null,{"$f":"IF(N11=N13,\"\",IF(N11>N13,L11,L13))","v":""},"s403"]
[102,null,null,202,null,null,null,302,null,null,null,402,null,null,null,502]
[{"$f":"Anmeldung!H5","v":0},null,null,{"$f":"IF(B15=B17,\"\",IF(B15>B17,A15,A17))","v":""},"s104",null,null,{"$f":"IF(F15=F17,\"\",IF(F15>F17,D15,D17))","v":""},"s204",null,null,{"$f":"IF(J15=J17,\"\",IF(J15>J17,H15,H17))","v":""},"s304",null,null,{"$f":"IF(N15=N17,\"\",IF(N15>N17,L15,L17))","v":""},"s404"]
[]
[{"$f":"Anmeldung!H6","v":0},null,null,{"$f":"IF(B19=B21,\"\",IF(B19>B21,A19,A21))","v":""},"s105",null,null,{"$f":"IF(F19=F21,\"\",IF(F19>F21,D19,D21))","v":""},"s205",null,null,{"$f":"IF(J19=J21,\"\",IF(J19>J21,H19,H21))","v":""},"s305",null,null,{"$f":"IF(N19=N21,\"\",IF(N19>N21,L19,L21))","v":""},"s405"]
[103,null,null,203,null,null,null,303,null,null,null,403,null,null,null,503]
[{"$f":"Anmeldung!H7","v":0},null,null,{"$f":"IF(B23=B25,\"\",IF(B23>B25,A23,A25))","v":""},"s106",null,null,{"$f":"IF(F23=F25,\"\",IF(F23>F25,D23,D25))","v":""},"s206",null,null,{"$f":"IF(J23=J25,\"\",IF(J23>J25,H23,H25))","v":""},"s306",null,null,{"$f":"IF(N23=N25,\"\",IF(N23>N25,L23,L25))","v":""},"s406"]
[]
[{"$f":"Anmeldung!H8","v":0},null,null,{"$f":"IF(B27=B29,\"\",IF(B27>B29,A27,A29))","v":""},"s107",null,null,{"$f":"IF(F27=F29,\"\",IF(F27>F29,D27,D29))","v":""},"s207",null,null,{"$f":"IF(J27=J29,\"\",IF(J27>J29,H27,H29))","v":""},"s307",null,null,{"$f":"IF(N27=N29,\"\",IF(N27>N29,L27,L29))","v":""},"s407"]
[104,null,null,204,null,null,null,304,null,null,null,404,null,null,null,504]
[{"$f":"Anmeldung!H9","v":0},null,null,{"$f":"IF(B31=B33,\"\",IF(B31>B33,A31,A33))","v":""},"s108",null,null,{"$f":"IF(F31=F33,\"\",IF(F31>F33,D31,D33))","v":""},"s208",null,null,{"$f":"IF(J31=J33,\"\",IF(J31>J33,H31,H33))","v":""},"s308",null,null,{"$f":"IF(N31=N33,\"\",IF(N31>N33,L31,L33))","v":""},"s408"]
[]
[{"$f":"Anmeldung!H10","v":0},null,null,{"$f":"IF(B35=B37,\"\",IF(B35>B37,A35,A37))","v":""},"s109",null,null,{"$f":"IF(F35=F37,\"\",IF(F35>F37,D35,D37))","v":""},"s209",null,null,{"$f":"IF(J35=J37,\"\",IF(J35>J37,H35,H37))","v":""},"s309",null,null,{"$f":"IF(N35=N37,\"\",IF(N35>N37,L35,L37))","v":""},"s409"]
[105,null,null,205,null,null,null,305,null,null,null,405,null,null,null,505]
[{"$f":"Anmeldung!H11","v":0},null,null,{"$f":"IF(B39=B41,\"\",IF(B39>B41,A39,A41))","v":""},"s110",null,null,{"$f":"IF(F39=F41,\"\",IF(F39>F41,D39,D41))","v":""},"s210",null,null,{"$f":"IF(J39=J41,\"\",IF(J39>J41,H39,H41))","v":""},"s310",null,null,{"$f":"IF(N39=N41,\"\",IF(N39>N41,L39,L41))","v":""},"s410"]
[]
[{"$f":"Anmeldung!H12","v":0},null,null,{"$f":"IF(B43=B45,\"\",IF(B43>B45,A43,A45))","v":""},"s111",null,null,{"$f":"IF(F43=F45,\"\",IF(F43>F45,D43,D45))","v":""},"s211",null,null,{"$f":"IF(J43=J45,\"\",IF(J43>J45,H43,H45))","v":""},"s311",null,null,{"$f":"IF(N43=N45,\"\",IF(N43>N45,L43,L45))","v":""},"s411"]
[106,null,null,206,null,null,null,306,null,null,null,406,null,null,null,506]
[{"$f":"Anmeldung!H13","v":0},null,null,{"$f":"IF(B47=B49,\"\",IF(B47>B49,A47,A49))","v":""},"s112",null,null,{"$f":"IF(F47=F49,\"\",IF(F47>F49,D47,D49))","v":""},"s212",null,null,{"$f":"IF(J47=J49,\"\",IF(J47>J49,H47,H49))","v":""},"s312",null,null,{"$f":"IF(N47=N49,\"\",IF(N47>N49,L47,L49))","v":""},"s412"]
[]
[{"$f":"Anmeldung!H14","v":0},null,null,{"$f":"IF(B3=B5,\"\",IF(B3<B5,A3,A5))","v":""},"v101",null,null,{"$f":"IF(F3=F5,\"\",IF(F3<F5,D3,D5))","v":""},"v201",null,null,{"$f":"IF(J3=J5,\"\",IF(J3<J5,H3,H5))","v":""},"v301",null,null,{"$f":"IF(N3=N5,\"\",IF(N3<N5,L3,L5))","v":""},"v401"]
[107,null,null,207,null,null,null,307,null,null,null,407,null,null,null,507]
[{"$f":"Anmeldung!H15","v":0},null,null,{"$f":"IF(B7=B9,\"\",IF(B7<B9,A7,A9))","v":""},"v102",null,null,{"$f":"IF(F7=F9,\"\",IF(F7<F9,D7,D9))","v":""},"v202",null,null,{"$f":"IF(J7=J9,\"\",IF(J7<J9,H7,H9))","v":""},"v302",null,null,{"$f":"IF(N7=N9,\"\",IF(N7<N9,L7,L9))","v":""},"v402"]
[]
[{"$f":"Anmeldung!H16","v":0},null,null,{"$f":"IF(B11=B13,\"\",IF(B11<B13,A11,A13))","v":""},"v103",null,null,{"$f":"IF(F11=F13,\"\",IF(F11<F13,D11,D13))","v":""},"v203",null,null,{"$f":"IF(J11=J13,\"\",IF(J11<J13,H11,H13))","v":""},"v303",null,null,{"$f":"IF(N11=N13,\"\",IF(N11<N13,L11,L13))","v":""},"v403"]
[108,null,null,208,null,null,null,308,null,null,null,408,null,null,null,508]
[{"$f":"Anmeldung!H17","v":0},null,null,{"$f":"IF(B15=B17,\"\",IF(B15<B17,A15,A17))","v":""},"v104",null,null,{"$f":"IF(F15=F17,\"\",IF(F15<F17,D15,D17))","v":""},"v204",null,null,{"$f":"IF(J15=J17,\"\",IF(J15<J17,H15,H17))","v":""},"v304",null,null,{"$f":"IF(N15=N17,\"\",IF(N15<N17,L15,L17))","v":""},"v404"]
[]
[{"$f":"Anmeldung!H18","v":0},null,null,{"$f":"IF(B19=B21,\"\",IF(B19<B21,A19,A21))","v":""},"v105",null,null,{"$f":"IF(F19=F21,\"\",IF(F19<F21,D19,D21))","v":""},"v205",null,null,{"$f":"IF(J19=J21,\"\",IF(J19<J21,H19,H21))","v":""},"v305",null,null,{"$f":"IF(N19=N21,\"\",IF(N19<N21,L19,L21))","v":""},"v405"]
[109,null,null,209,null,null,null,309,null,null,null,409,null,null,null,509]
[{"$f":"Anmeldung!H19","v":0},null,null,{"$f":"IF(B23=B25,\"\",IF(B23<B25,A23,A25))","v":""},"v106",null,null,{"$f":"IF(F23=F25,\"\",IF(F23<F25,D23,D25))","v":""},"v206",null,null,{"$f":"IF(J23=J25,\"\",IF(J23<J25,H23,H25))","v":""},"v306",null,null,{"$f":"IF(N23=N25,\"\",IF(N23<N25,L23,L25))","v":""},"v406"]
[]
[{"$f":"Anmeldung!H20","v":0},null,null,{"$f":"IF(B27=B29,\"\",IF(B27<B29,A27,A29))","v":""},"v107",null,null,{"$f":"IF(F27=F29,\"\",IF(F27<F29,D27,D29))","v":""},"v207",null,null,{"$f":"IF(J27=J29,\"\",IF(J27<J29,H27,H29))","v":""},"v307",null,null,{"$f":"IF(N27=N29,\"\",IF(N27<N29,L27,L29))","v":""},"v407"]
[110,null,null,210,null,null,null,310,null,null,null,410,null,null,null,510]
[{"$f":"Anmeldung!H21","v":0},null,null,{"$f":"IF(B31=B33,\"\",IF(B31<B33,A31,A33))","v":""},"v108",null,null,{"$f":"IF(F31=F33,\"\",IF(F31<F33,D31,D33))","v":""},"v208",null,null,{"$f":"IF(J31=J33,\"\",IF(J31<J33,H31,H33))","v":""},"v308",null,null,{"$f":"IF(N31=N33,\"\",IF(N31<N33,L31,L33))","v":""},"v408"]
[]
[{"$f":"Anmeldung!H22","v":0},null,null,{"$f":"IF(B35=B37,\"\",IF(B35<B37,A35,A37))","v":""},"v109",null,null,{"$f":"IF(F35=F37,\"\",IF(F35<F37,D35,D37))","v":""},"v209",null,null,{"$f":"IF(J35=J37,\"\",IF(J35<J37,H35,H37))","v":""},"v309",null,null,{"$f":"IF(N35=N37,\"\",IF(N35<N37,L35,L37))","v":""},"v409"]
[111,null,null,211,null,null,null,311,null,null,null,411,null,null,null,511]
[{"$f":"Anmeldung!H23","v":0},null,null,{"$f":"IF(B39=B41,\"\",IF(B39<B41,A39,A41))","v":""},"v110",null,null,{"$f":"IF(F39=F41,\"\",IF(F39<F41,D39,D41))","v":""},"v210",null,null,{"$f":"IF(J39=J41,\"\",IF(J39<J41,H39,H41))","v":""},"v310",null,null,{"$f":"IF(N39=N41,\"\",IF(N39<N41,L39,L41))","v":""},"v410"]
[]
[{"$f":"Anmeldung!H24","v":0},null,null,{"$f":"IF(B43=B45,\"\",IF(B43<B45,A43,A45))","v":""},"v111",null,null,{"$f":"IF(F43=F45,\"\",IF(F43<F45,D43,D45))","v":""},"v211",null,null,{"$f":"IF(J43=J45,\"\",IF(J43<J45,H43,H45))","v":""},"v311",null,null,{"$f":"IF(N43=N45,\"\",IF(N43<N45,L43,L45))","v":""},"v411"]
[112,null,null,212,null,null,null,312,null,null,null,412,null,null,null,512]
[{"$f":"Anmeldung!H25","v":0},null,null,{"$f":"IF(B47=B49,\"\",IF(B47<B49,A47,A49))","v":""},"v112",null,null,{"$f":"IF(F47=F49,\"\",IF(F47<F49,D47,D49))","v":""},"v212",null,null,{"$f":"IF(J47=J49,\"\",IF(J47<J49,H47,H49))","v":""},"v312",null,null,{"$f":"IF(N47=N49,\"\",IF(N47<N49,L47,L49))","v":""},"v412"]

{"sheet":"26er Plan","index":11,"n_rows":53,"n_cols":18,"rows_kept":53,"cut":false,"hidden":true,"merged":[[55,4,55,5],[55,8,55,9],[55,12,55,13],[55,16,55,17],[51,4,51,5],[51,8,51,9],[51,12,51,13],[51,16,51,17],[47,4,47,5],[47,8,47,9],[47,12,47,13],[47,16,47,17],[43,4,43,5],[43,8,43,9],[43,12,43,13],[43,16,43,17],[39,4,39,5],[39,8,39,9],[39,12,39,13],[39,16,39,17],[35,4,35,5],[35,8,35,9],[35,12,35,13],[35,16,35,17],[31,4,31,5],[31,8,31,9],[31,12,31,13],[31,16,31,17],[27,4,27,5],[27,8,27,9],[27,12,27,13],[27,16,27,17],[23,4,23,5],[23,8,23,9],[23,12,23,13],[23,16,23,17],[19,4,19,5],[19,8,19,9],[19,12,19,13],[19,16,19,17],[15,4,15,5],[15,8,15,9],[15,12,15,13],[15,16,15,17],[11,4,11,5],[11,8,11,9],[11,12,11,13],[11,16,11,17],[7,4,7,5],[7,8,7,9],[7,12,7,13],[7,16,7,17],[3,4,3,5],[3,8,3,9],[3,12,3,13],[3,16,3,17]]}
["Durchgang 1","Erg",null,"Durchgang 2",null,"Erg",null,"Durchgang 3",null,"Erg",null,"Durchgang 4",null,"Erg",null,"Durchgang 5",null,"Erg"]
[]
[{"$f":"Anmeldung!H2","v":0},null,null,{"$f":"IF(B3=B5,\"\",IF(B3>B5,A3,A5))","v":""},"s101",null,null,{"$f":"IF(F3=F5,\"\",IF(F3>F5,D3,D5))","v":""},"s201",null,null,{"$f":"IF(J3=J5,\"\",IF(J3>J5,H3,H5))","v":""},"s301",null,null,{"$f":"IF(N3=N5,\"\",IF(N3>N5,L3,L5))","v":""},"s401"]
[101,null,null,201,null,null,null,301,null,null,null,401,null,null,null,501]
[{"$f":"Anmeldung!H3","v":0},null,null,{"$f":"IF(B7=B9,\"\",IF(B7>B9,A7,A9))","v":""},"s102",null,null,{"$f":"IF(F7=F9,\"\",IF(F7>F9,D7,D9))","v":""},"s202",null,null,{"$f":"IF(J7=J9,\"\",IF(J7>J9,H7,H9))","v":""},"s302",null,null,{"$f":"IF(N7=N9,\"\",IF(N7>N9,L7,L9))","v":""},"s402"]
[]
[{"$f":"Anmeldung!H4","v":0},null,null,{"$f":"IF(B11=B13,\"\",IF(B11>B13,A11,A13))","v":""},"s103",null,null,{"$f":"IF(F11=F13,\"\",IF(F11>F13,D11,D13))","v":""},"s203",null,null,{"$f":"IF(J11=J13,\"\",IF(J11>J13,H11,H13))","v":""},"s303",null,null,{"$f":"IF(N11=N13,\"\",IF(N11>N13,L11,L13))","v":""},"s403"]
[102,null,null,202,null,null,null,302,null,null,null,402,null,null,null,502]
[{"$f":"Anmeldung!H5","v":0},null,null,{"$f":"IF(B15=B17,\"\",IF(B15>B17,A15,A17))","v":""},"s104",null,null,{"$f":"IF(F15=F17,\"\",IF(F15>F17,D15,D17))","v":""},"s204",null,null,{"$f":"IF(J15=J17,\"\",IF(J15>J17,H15,H17))","v":""},"s304",null,null,{"$f":"IF(N15=N17,\"\",IF(N15>N17,L15,L17))","v":""},"s404"]
[]
[{"$f":"Anmeldung!H6","v":0},null,null,{"$f":"IF(B19=B21,\"\",IF(B19>B21,A19,A21))","v":""},"s105",null,null,{"$f":"IF(F19=F21,\"\",IF(F19>F21,D19,D21))","v":""},"s205",null,null,{"$f":"IF(J19=J21,\"\",IF(J19>J21,H19,H21))","v":""},"s305",null,null,{"$f":"IF(N19=N21,\"\",IF(N19>N21,L19,L21))","v":""},"s405"]
[103,null,null,203,null,null,null,303,null,null,null,403,null,null,null,503]
[{"$f":"Anmeldung!H7","v":0},null,null,{"$f":"IF(B23=B25,\"\",IF(B23>B25,A23,A25))","v":""},"s106",null,null,{"$f":"IF(F23=F25,\"\",IF(F23>F25,D23,D25))","v":""},"s206",null,null,{"$f":"IF(J23=J25,\"\",IF(J23>J25,H23,H25))","v":""},"s306",null,null,{"$f":"IF(N23=N25,\"\",IF(N23>N25,L23,L25))","v":""},"s406"]
[]
[{"$f":"Anmeldung!H8","v":0},null,null,{"$f":"IF(B27=B29,\"\",IF(B27>B29,A27,A29))","v":""},"s107",null,null,{"$f":"IF(F27=F29,\"\",IF(F27>F29,D27,D29))","v":""},"s207",null,null,{"$f":"IF(J27=J29,\"\",IF(J27>J29,H27,H29))","v":""},"s307",null,null,{"$f":"IF(N27=N29,\"\",IF(N27>N29,L27,L29))","v":""},"s407"]
[104,null,null,204,null,null,null,304,null,null,null,404,null,null,null,504]
[{"$f":"Anmeldung!H9","v":0},null,null,{"$f":"IF(B31=B33,\"\",IF(B31>B33,A31,A33))","v":""},"s108",null,null,{"$f":"IF(F31=F33,\"\",IF(F31>F33,D31,D33))","v":""},"s208",null,null,{"$f":"IF(J31=J33,\"\",IF(J31>J33,H31,H33))","v":""},"s308",null,null,{"$f":"IF(N31=N33,\"\",IF(N31>N33,L31,L33))","v":""},"s408"]
[]
[{"$f":"Anmeldung!H10","v":0},null,null,{"$f":"IF(B35=B37,\"\",IF(B35>B37,A35,A37))","v":""},"s109",null,null,{"$f":"IF(F35=F37,\"\",IF(F35>F37,D35,D37))","v":""},"s209",null,null,{"$f":"IF(J35=J37,\"\",IF(J35>J37,H35,H37))","v":""},"s309",null,null,{"$f":"IF(N35=N37,\"\",IF(N35>N37,L35,L37))","v":""},"s409"]
[105,null,null,205,null,null,null,305,null,null,null,405,null,null,null,505]
[{"$f":"Anmeldung!H11","v":0},null,null,{"$f":"IF(B39=B41,\"\",IF(B39>B41,A39,A41))","v":""},"s110",null,null,{"$f":"IF(F39=F41,\"\",IF(F39>F41,D39,D41))","v":""},"s210",null,null,{"$f":"IF(J39=J41,\"\",IF(J39>J41,H39,H41))","v":""},"s310",null,null,{"$f":"IF(N39=N41,\"\",IF(N39>N41,L39,L41))","v":""},"s410"]
[]
[{"$f":"Anmeldung!H12","v":0},null,null,{"$f":"IF(B43=B45,\"\",IF(B43>B45,A43,A45))","v":""},"s111",null,null,{"$f":"IF(F43=F45,\"\",IF(F43>F45,D43,D45))","v":""},"s211",null,null,{"$f":"IF(J43=J45,\"\",IF(J43>J45,H43,H45))","v":""},"s311",null,null,{"$f":"IF(N43=N45,\"\",IF(N43>N45,L43,L45))","v":""},"s411"]
[106,null,null,206,null,null,null,306,null,null,null,406,null,null,null,506]
[{"$f":"Anmeldung!H13","v":0},null,null,{"$f":"IF(B47=B49,\"\",IF(B47>B49,A47,A49))","v":""},"s112",null,null,{"$f":"IF(F47=F49,\"\",IF(F47>F49,D47,D49))","v":""},"s212",null,null,{"$f":"IF(J47=J49,\"\",IF(J47>J49,H47,H49))","v":""},"s312",null,null,{"$f":"IF(N47=N49,\"\",IF(N47>N49,L47,L49))","v":""},"s412"]
[]
[{"$f":"Anmeldung!H14","v":0},null,null,{"$f":"IF(B51=B53,\"\",IF(B51>B53,A51,A53))","v":""},"s113",null,null,{"$f":"IF(F51=F53,\"\",IF(F51>F53,D51,D53))","v":""},"s213",null,null,{"$f":"IF(J51=J53,\"\",IF(J51>J53,H51,H53))","v":""},"s313",null,null,{"$f":"IF(N51=N53,\"\",IF(N51>N53,L51,L53))","v":""},"s413"]
[107,null,null,207,null,null,null,307,null,null,null,407,null,null,null,507]
[{"$f":"Anmeldung!H15","v":0},null,null,{"$f":"IF(B3=B5,\"\",IF(B3<B5,A3,A5))","v":""},"s114",null,null,{"$f":"IF(F3=F5,\"\",IF(F3<F5,D3,D5))","v":""},"s214",null,null,{"$f":"IF(J3=J5,\"\",IF(J3<J5,H3,H5))","v":""},"s314",null,null,{"$f":"IF(N3=N5,\"\",IF(N3<N5,L3,L5))","v":""},"s414"]
[]
[{"$f":"Anmeldung!H16","v":0},null,null,{"$f":"IF(B7=B9,\"\",IF(B7<B9,A7,A9))","v":""},"v101",null,null,{"$f":"IF(F7=F9,\"\",IF(F7<F9,D7,D9))","v":""},"v201",null,null,{"$f":"IF(J7=J9,\"\",IF(J7<J9,H7,H9))","v":""},"v301",null,null,{"$f":"IF(N7=N9,\"\",IF(N7<N9,L7,L9))","v":""},"v401"]
[108,null,null,208,null,null,null,308,null,null,null,408,null,null,null,508]
[{"$f":"Anmeldung!H17","v":0},null,null,{"$f":"IF(B11=B13,\"\",IF(B11<B13,A11,A13))","v":""},"v102",null,null,{"$f":"IF(F11=F13,\"\",IF(F11<F13,D11,D13))","v":""},"v202",null,null,{"$f":"IF(J11=J13,\"\",IF(J11<J13,H11,H13))","v":""},"v302",null,null,{"$f":"IF(N11=N13,\"\",IF(N11<N13,L11,L13))","v":""},"v402"]
[]
[{"$f":"Anmeldung!H18","v":0},null,null,{"$f":"IF(B15=B17,\"\",IF(B15<B17,A15,A17))","v":""},"v103",null,null,{"$f":"IF(F15=F17,\"\",IF(F15<F17,D15,D17))","v":""},"v203",null,null,{"$f":"IF(J15=J17,\"\",IF(J15<J17,H15,H17))","v":""},"v303",null,null,{"$f":"IF(N15=N17,\"\",IF(N15<N17,L15,L17))","v":""},"v403"]
[109,null,null,209,null,null,null,309,null,null,null,409,null,null,null,509]
[{"$f":"Anmeldung!H19","v":0},null,null,{"$f":"IF(B19=B21,\"\",IF(B19<B21,A19,A21))","v":""},"v104",null,null,{"$f":"IF(F19=F21,\"\",IF(F19<F21,D19,D21))","v":""},"v204",null,null,{"$f":"IF(J19=J21,\"\",IF(J19<J21,H19,H21))","v":""},"v304",null,null,{"$f":"IF(N19=N21,\"\",IF(N19<N21,L19,L21))","v":""},"v404"]
[]
[{"$f":"Anmeldung!H20","v":0},null,null,{"$f":"IF(B23=B25,\"\",IF(B23<B25,A23,A25))","v":""},"v105",null,null,{"$f":"IF(F23=F25,\"\",IF(F23<F25,D23,D25))","v":""},"v205",null,null,{"$f":"IF(J23=J25,\"\",IF(J23<J25,H23,H25))","v":""},"v305",null,null,{"$f":"IF(N23=N25,\"\",IF(N23<N25,L23,L25))","v":""},"v405"]
[110,null,null,210,null,null,null,310,null,null,null,410,null,null,null,510]
[{"$f":"Anmeldung!H21","v":0},null,null,{"$f":"IF(B27=B29,\"\",IF(B27<B29,A27,A29))","v":""},"v106",null,null,{"$f":"IF(F27=F29,\"\",IF(F27<F29,D27,D29))","v":""},"v206",null,null,{"$f":"IF(J27=J29,\"\",IF(J27<J29,H27,H29))","v":""},"v306",null,null,{"$f":"IF(N27=N29,\"\",IF(N27<N29,L27,L29))","v":""},"v406"]
[]
[{"$f":"Anmeldung!H22","v":0},null,null,{"$f":"IF(B31=B33,\"\",IF(B31<B33,A31,A33))","v":""},"v107",null,null,{"$f":"IF(F31=F33,\"\",IF(F31<F33,D31,D33))","v":""},"v207",null,null,{"$f":"IF(J31=J33,\"\",IF(J31<J33,H31,H33))","v":""},"v307",null,null,{"$f":"IF(N31=N33,\"\",IF(N31<N33,L31,L33))","v":""},"v407"]
[111,null,null,211,null,null,null,311,null,null,null,411,null,null,null,511]
[{"$f":"Anmeldung!H23","v":0},null,null,{"$f":"IF(B35=B37,\"\",IF(B35<B37,A35,A37))","v":""},"v108",null,null,{"$f":"IF(F35=F37,\"\",IF(F35<F37,D35,D37))","v":""},"v208",null,null,{"$f":"IF(J35=J37,\"\",IF(J35<J37,H35,H37))","v":""},"v308",null,null,{"$f":"IF(N35=N37,\"\",IF(N35<N37,L35,L37))","v":""},"v408"]
[]
[{"$f":"Anmeldung!H24","v":0},null,null,{"$f":"IF(B39=B41,\"\",IF(B39<B41,A39,A41))","v":""},"v109",null,null,{"$f":"IF(F39=F41,\"\",IF(F39<F41,D39,D41))","v":""},"v209",null,null,{"$f":"IF(J39=J41,\"\",IF(J39<J41,H39,H41))","v":""},"v309",null,null,{"$f":"IF(N39=N41,\"\",IF(N39<N41,L39,L41))","v":""},"v409"]
[112,null,null,212,null,null,null,312,null,null,null,412,null,null,null,512]
[{"$f":"Anmeldung!H25","v":0},null,null,{"$f":"IF(B43=B45,\"\",IF(B43<B45,A43,A45))","v":""},"v110",null,null,{"$f":"IF(F43=F45,\"\",IF(F43<F45,D43,D45))","v":""},"v210",null,null,{"$f":"IF(J43=J45,\"\",IF(J43<J45,H43,H45))","v":""},"v310",null,null,{"$f":"IF(N43=N45,\"\",IF(N43<N45,L43,L45))","v":""},"v410"]
[]
[{"$f":"Anmeldung!H26","v":0},null,null,{"$f":"IF(B47=B49,\"\",IF(B47<B49,A47,A49))","v":""},"v111",null,null,{"$f":"IF(F47=F49,\"\",IF(F47<F49,D47,D49))","v":""},"v211",null,null,{"$f":"IF(J47=J49,\"\",IF(J47<J49,H47,H49))","v":""},"v311",null,null,{"$f":"IF(N47=N49,\"\",IF(N47<N49,L47,L49))","v":""},"v411"]
[113,null,null,213,null,null,null,313,null,null,null,413,null,null,null,513]
[{"$f":"Anmeldung!H27","v":0},null,null,{"$f":"IF(B51=B53,\"\",IF(B51<B53,A51,A53))","v":""},"v112",null,null,{"$f":"IF(F51=F53,\"\",IF(F51<F53,D51,D53))","v":""},"v212",null,null,{"$f":"IF(J51=J53,\"\",IF(J51<J53,H51,H53))","v":""},"v312",null,null,{"$f":"IF(N51=N53,\"\",IF(N51<N53,L51,L53))","v":""},"v412"]

{"sheet":"28er Plan","index":12,"n_rows":57,"n_cols":18,"rows_kept":57,"cut":false,"hidden":true,"merged":[[55,16,55,17],[51,16,51,17],[51,4,51,5],[55,4,55,5],[55,8,55,9],[51,8,51,9],[39,12,39,13],[43,12,43,13],[47,12,47,13],[51,12,51,13],[55,12,55,13],[39,4,39,5],[43,4,43,5],[47,4,47,5],[47,8,47,9],[43,8,43,9],[39,8,39,9],[35,16,35,17],[31,16,31,17],[47,16,47,17],[43,16,43,17],[39,16,39,17],[35,12,35,13],[31,12,31,13],[27,12,27,13],[23,12,23,13],[19,12,19,13],[19,4,19,5],[23,4,23,5],[27,4,27,5],[31,4,31,5],[23,16,23,17],[19,8,19,9],[27,16,27,17],[19,16,19,17],[35,4,35,5],[35,8,35,9],[31,8,31,9],[23,8,23,9],[27,8,27,9],[15,16,15,17],[15,12,15,13],[15,8,15,9],[15,4,15,5],[11,4,11,5],[11,8,11,9],[11,12,11,13],[11,16,11,17],[7,16,7,17],[7,12,7,13],[7,8,7,9],[7,4,7,5],[3,4,3,5],[3,8,3,9],[3,12,3,13],[3,16,3,17]]}
["Durchgang 1","Erg",null,"Durchgang 2",null,"Erg",null,"Durchgang 3",null,"Erg",null,"Durchgang 4",null,"Erg",null,"Durchgang 5",null,"Erg"]
[]
[{"$f":"Anmeldung!H2","v":0},null,null,{"$f":"IF(B3=B5,\"\",IF(B3>B5,A3,A5))","v":""},"s101",null,null,{"$f":"IF(F3=F5,\"\",IF(F3>F5,D3,D5))","v":""},"s201",null,null,{"$f":"IF(J3=J5,\"\",IF(J3>J5,H3,H5))","v":""},"s301",null,null,{"$f":"IF(N3=N5,\"\",IF(N3>N5,L3,L5))","v":""},"s401"]
[101,null,null,201,null,null,null,301,null,null,null,401,null,null,null,501]
[{"$f":"Anmeldung!H3","v":0},null,null,{"$f":"IF(B7=B9,\"\",IF(B7>B9,A7,A9))","v":""},"s102",null,null,{"$f":"IF(F7=F9,\"\",IF(F7>F9,D7,D9))","v":""},"s202",null,null,{"$f":"IF(J7=J9,\"\",IF(J7>J9,H7,H9))","v":""},"s302",null,null,{"$f":"IF(N7=N9,\"\",IF(N7>N9,L7,L9))","v":""},"s402"]
[]
[{"$f":"Anmeldung!H4","v":0},null,null,{"$f":"IF(B11=B13,\"\",IF(B11>B13,A11,A13))","v":""},"s103",null,null,{"$f":"IF(F11=F13,\"\",IF(F11>F13,D11,D13))","v":""},"s203",null,null,{"$f":"IF(J11=J13,\"\",IF(J11>J13,H11,H13))","v":""},"s303",null,null,{"$f":"IF(N11=N13,\"\",IF(N11>N13,L11,L13))","v":""},"s403"]
[102,null,null,202,null,null,null,302,null,null,null,402,null,null,null,502]
[{"$f":"Anmeldung!H5","v":0},null,null,{"$f":"IF(B15=B17,\"\",IF(B15>B17,A15,A17))","v":""},"s104",null,null,{"$f":"IF(F15=F17,\"\",IF(F15>F17,D15,D17))","v":""},"s204",null,null,{"$f":"IF(J15=J17,\"\",IF(J15>J17,H15,H17))","v":""},"s304",null,null,{"$f":"IF(N15=N17,\"\",IF(N15>N17,L15,L17))","v":""},"s404"]
[]
[{"$f":"Anmeldung!H6","v":0},null,null,{"$f":"IF(B19=B21,\"\",IF(B19>B21,A19,A21))","v":""},"s105",null,null,{"$f":"IF(F19=F21,\"\",IF(F19>F21,D19,D21))","v":""},"s205",null,null,{"$f":"IF(J19=J21,\"\",IF(J19>J21,H19,H21))","v":""},"s305",null,null,{"$f":"IF(N19=N21,\"\",IF(N19>N21,L19,L21))","v":""},"s405"]
[103,null,null,203,null,null,null,303,null,null,null,403,null,null,null,503]
[{"$f":"Anmeldung!H7","v":0},null,null,{"$f":"IF(B23=B25,\"\",IF(B23>B25,A23,A25))","v":""},"s106",null,null,{"$f":"IF(F23=F25,\"\",IF(F23>F25,D23,D25))","v":""},"s206",null,null,{"$f":"IF(J23=J25,\"\",IF(J23>J25,H23,H25))","v":""},"s306",null,null,{"$f":"IF(N23=N25,\"\",IF(N23>N25,L23,L25))","v":""},"s406"]
[]
[{"$f":"Anmeldung!H8","v":0},null,null,{"$f":"IF(B27=B29,\"\",IF(B27>B29,A27,A29))","v":""},"s107",null,null,{"$f":"IF(F27=F29,\"\",IF(F27>F29,D27,D29))","v":""},"s207",null,null,{"$f":"IF(J27=J29,\"\",IF(J27>J29,H27,H29))","v":""},"s307",null,null,{"$f":"IF(N27=N29,\"\",IF(N27>N29,L27,L29))","v":""},"s407"]
[104,null,null,204,null,null,null,304,null,null,null,404,null,null,null,504]
[{"$f":"Anmeldung!H9","v":0},null,null,{"$f":"IF(B31=B33,\"\",IF(B31>B33,A31,A33))","v":""},"s108",null,null,{"$f":"IF(F31=F33,\"\",IF(F31>F33,D31,D33))","v":""},"s208",null,null,{"$f":"IF(J31=J33,\"\",IF(J31>J33,H31,H33))","v":""},"s308",null,null,{"$f":"IF(N31=N33,\"\",IF(N31>N33,L31,L33))","v":""},"s408"]
[]
[{"$f":"Anmeldung!H10","v":0},null,null,{"$f":"IF(B35=B37,\"\",IF(B35>B37,A35,A37))","v":""},"s109",null,null,{"$f":"IF(F35=F37,\"\",IF(F35>F37,D35,D37))","v":""},"s209",null,null,{"$f":"IF(J35=J37,\"\",IF(J35>J37,H35,H37))","v":""},"s309",null,null,{"$f":"IF(N35=N37,\"\",IF(N35>N37,L35,L37))","v":""},"s409"]
[105,null,null,205,null,null,null,305,null,null,null,405,null,null,null,505]
[{"$f":"Anmeldung!H11","v":0},null,null,{"$f":"IF(B39=B41,\"\",IF(B39>B41,A39,A41))","v":""},"s110",null,null,{"$f":"IF(F39=F41,\"\",IF(F39>F41,D39,D41))","v":""},"s210",null,null,{"$f":"IF(J39=J41,\"\",IF(J39>J41,H39,H41))","v":""},"s310",null,null,{"$f":"IF(N39=N41,\"\",IF(N39>N41,L39,L41))","v":""},"s410"]
[]
[{"$f":"Anmeldung!H12","v":0},null,null,{"$f":"IF(B43=B45,\"\",IF(B43>B45,A43,A45))","v":""},"s111",null,null,{"$f":"IF(F43=F45,\"\",IF(F43>F45,D43,D45))","v":""},"s211",null,null,{"$f":"IF(J43=J45,\"\",IF(J43>J45,H43,H45))","v":""},"s311",null,null,{"$f":"IF(N43=N45,\"\",IF(N43>N45,L43,L45))","v":""},"s411"]
[106,null,null,206,null,null,null,306,null,null,null,406,null,null,null,506]
[{"$f":"Anmeldung!H13","v":0},null,null,{"$f":"IF(B47=B49,\"\",IF(B47>B49,A47,A49))","v":""},"s112",null,null,{"$f":"IF(F47=F49,\"\",IF(F47>F49,D47,D49))","v":""},"s212",null,null,{"$f":"IF(J47=J49,\"\",IF(J47>J49,H47,H49))","v":""},"s312",null,null,{"$f":"IF(N47=N49,\"\",IF(N47>N49,L47,L49))","v":""},"s412"]
[]
[{"$f":"Anmeldung!H14","v":0},null,null,{"$f":"IF(B51=B53,\"\",IF(B51>B53,A51,A53))","v":""},"s113",null,null,{"$f":"IF(F51=F53,\"\",IF(F51>F53,D51,D53))","v":""},"s213",null,null,{"$f":"IF(J51=J53,\"\",IF(J51>J53,H51,H53))","v":""},"s313",null,null,{"$f":"IF(N51=N53,\"\",IF(N51>N53,L51,L53))","v":""},"s413"]
[107,null,null,207,null,null,null,307,null,null,null,407,null,null,null,507]
[{"$f":"Anmeldung!H15","v":0},null,null,{"$f":"IF(B55=B57,\"\",IF(B55>B57,A55,A57))","v":""},"s114",null,null,{"$f":"IF(F55=F57,\"\",IF(F55>F57,D55,D57))","v":""},"s214",null,null,{"$f":"IF(J55=J57,\"\",IF(J55>J57,H55,H57))","v":""},"s314",null,null,{"$f":"IF(N55=N57,\"\",IF(N55>N57,L55,L57))","v":""},"s414"]
[]
[{"$f":"Anmeldung!H16","v":0},null,null,{"$f":"IF(B3=B5,\"\",IF(B3<B5,A3,A5))","v":""},"v101",null,null,{"$f":"IF(F3=F5,\"\",IF(F3<F5,D3,D5))","v":""},"v201",null,null,{"$f":"IF(J3=J5,\"\",IF(J3<J5,H3,H5))","v":""},"v301",null,null,{"$f":"IF(N3=N5,\"\",IF(N3<N5,L3,L5))","v":""},"v401"]
[108,null,null,208,null,null,null,308,null,null,null,408,null,null,null,508]
[{"$f":"Anmeldung!H17","v":0},null,null,{"$f":"IF(B7=B9,\"\",IF(B7<B9,A7,A9))","v":""},"v102",null,null,{"$f":"IF(F7=F9,\"\",IF(F7<F9,D7,D9))","v":""},"v202",null,null,{"$f":"IF(J7=J9,\"\",IF(J7<J9,H7,H9))","v":""},"v302",null,null,{"$f":"IF(N7=N9,\"\",IF(N7<N9,L7,L9))","v":""},"v402"]
[]
[{"$f":"Anmeldung!H18","v":0},null,null,{"$f":"IF(B11=B13,\"\",IF(B11<B13,A11,A13))","v":""},"v103",null,null,{"$f":"IF(F11=F13,\"\",IF(F11<F13,D11,D13))","v":""},"v203",null,null,{"$f":"IF(J11=J13,\"\",IF(J11<J13,H11,H13))","v":""},"v303",null,null,{"$f":"IF(N11=N13,\"\",IF(N11<N13,L11,L13))","v":""},"v403"]
[109,null,null,209,null,null,null,309,null,null,null,409,null,null,null,509]
[{"$f":"Anmeldung!H19","v":0},null,null,{"$f":"IF(B15=B17,\"\",IF(B15<B17,A15,A17))","v":""},"v104",null,null,{"$f":"IF(F15=F17,\"\",IF(F15<F17,D15,D17))","v":""},"v204",null,null,{"$f":"IF(J15=J17,\"\",IF(J15<J17,H15,H17))","v":""},"v304",null,null,{"$f":"IF(N15=N17,\"\",IF(N15<N17,L15,L17))","v":""},"v404"]
[]
[{"$f":"Anmeldung!H20","v":0},null,null,{"$f":"IF(B19=B21,\"\",IF(B19<B21,A19,A21))","v":""},"v105",null,null,{"$f":"IF(F19=F21,\"\",IF(F19<F21,D19,D21))","v":""},"v205",null,null,{"$f":"IF(J19=J21,\"\",IF(J19<J21,H19,H21))","v":""},"v305",null,null,{"$f":"IF(N19=N21,\"\",IF(N19<N21,L19,L21))","v":""},"v405"]
[110,null,null,210,null,null,null,310,null,null,null,410,null,null,null,510]
[{"$f":"Anmeldung!H21","v":0},null,null,{"$f":"IF(B23=B25,\"\",IF(B23<B25,A23,A25))","v":""},"v106",null,null,{"$f":"IF(F23=F25,\"\",IF(F23<F25,D23,D25))","v":""},"v206",null,null,{"$f":"IF(J23=J25,\"\",IF(J23<J25,H23,H25))","v":""},"v306",null,null,{"$f":"IF(N23=N25,\"\",IF(N23<N25,L23,L25))","v":""},"v406"]
[]
[{"$f":"Anmeldung!H22","v":0},null,null,{"$f":"IF(B27=B29,\"\",IF(B27<B29,A27,A29))","v":""},"v107",null,null,{"$f":"IF(F27=F29,\"\",IF(F27<F29,D27,D29))","v":""},"v207",null,null,{"$f":"IF(J27=J29,\"\",IF(J27<J29,H27,H29))","v":""},"v307",null,null,{"$f":"IF(N27=N29,\"\",IF(N27<N29,L27,L29))","v":""},"v407"]
[111,null,null,211,null,null,null,311,null,null,null,411,null,null,null,511]
[{"$f":"Anmeldung!H23","v":0},null,null,{"$f":"IF(B31=B33,\"\",IF(B31<B33,A31,A33))","v":""},"v108",null,null,{"$f":"IF(F31=F33,\"\",IF(F31<F33,D31,D33))","v":""},"v208",null,null,{"$f":"IF(J31=J33,\"\",IF(J31<J33,H31,H33))","v":""},"v308",null,null,{"$f":"IF(N31=N33,\"\",IF(N31<N33,L31,L33))","v":""},"v408"]
[]
[{"$f":"Anmeldung!H24","v":0},null,null,{"$f":"IF(B35=B37,\"\",IF(B35<B37,A35,A37))","v":""},"v109",null,null,{"$f":"IF(F35=F37,\"\",IF(F35<F37,D35,D37))","v":""},"v209",null,null,{"$f":"IF(J35=J37,\"\",IF(J35<J37,H35,H37))","v":""},"v309",null,null,{"$f":"IF(N35=N37,\"\",IF(N35<N37,L35,L37))","v":""},"v409"]
[112,null,null,212,null,null,null,312,null,null,null,412,null,null,null,512]
[{"$f":"Anmeldung!H25","v":0},null,null,{"$f":"IF(B39=B41,\"\",IF(B39<B41,A39,A41))","v":""},"v110",null,null,{"$f":"IF(F39=F41,\"\",IF(F39<F41,D39,D41))","v":""},"v210",null,null,{"$f":"IF(J39=J41,\"\",IF(J39<J41,H39,H41))","v":""},"v310",null,null,{"$f":"IF(N39=N41,\"\",IF(N39<N41,L39,L41))","v":""},"v410"]
[]
[{"$f":"Anmeldung!H26","v":0},null,null,{"$f":"IF(B43=B45,\"\",IF(B43<B45,A43,A45))","v":""},"v111",null,null,{"$f":"IF(F43=F45,\"\",IF(F43<F45,D43,D45))","v":""},"v211",null,null,{"$f":"IF(J43=J45,\"\",IF(J43<J45,H43,H45))","v":""},"v311",null,null,{"$f":"IF(N43=N45,\"\",IF(N43<N45,L43,L45))","v":""},"v411"]
[113,null,null,213,null,null,null,313,null,null,null,413,null,null,null,513]
[{"$f":"Anmeldung!H27","v":0},null,null,{"$f":"IF(B47=B49,\"\",IF(B47<B49,A47,A49))","v":""},"v112",null,null,{"$f":"IF(F47=F49,\"\",IF(F47<F49,D47,D49))","v":""},"v212",null,null,{"$f":"IF(J47=J49,\"\",IF(J47<J49,H47,H49))","v":""},"v312",null,null,{"$f":"IF(N47=N49,\"\",IF(N47<N49,L47,L49))","v":""},"v412"]
[]
[{"$f":"Anmeldung!H28","v":0},null,null,{"$f":"IF(B51=B53,\"\",IF(B51<B53,A51,A53))","v":""},"v113",null,null,{"$f":"IF(F51=F53,\"\",IF(F51<F53,D51,D53))","v":""},"v213",null,null,{"$f":"IF(J51=J53,\"\",IF(J51<J53,H51,H53))","v":""},"v313",null,null,{"$f":"IF(N51=N53,\"\",IF(N51<N53,L51,L53))","v":""},"v413"]
[114,null,null,214,null,null,null,314,null,null,null,414,null,null,null,514]
[{"$f":"Anmeldung!H29","v":0},null,null,{"$f":"IF(B55=B57,\"\",IF(B55<B57,A55,A57))","v":""},"v114",null,null,{"$f":"IF(F55=F57,\"\",IF(F55<F57,D55,D57))","v":""},"v214",null,null,{"$f":"IF(J55=J57,\"\",IF(J55<J57,H55,H57))","v":""},"v314",null,null,{"$f":"IF(N55=N57,\"\",IF(N55<N57,L55,L57))","v":""},"v414"]

{"sheet":"30er Plan","index":13,"n_rows":61,"n_cols":18,"rows_kept":61,"cut":false,"hidden":true,"merged":[[63,4,63,5],[63,8,63,9],[63,12,63,13],[63,16,63,17],[59,4,59,5],[59,8,59,9],[59,12,59,13],[59,16,59,17],[55,4,55,5],[55,8,55,9],[55,12,55,13],[55,16,55,17],[51,4,51,5],[51,8,51,9],[51,12,51,13],[51,16,51,17],[47,4,47,5],[47,8,47,9],[47,12,47,13],[47,16,47,17],[43,4,43,5],[43,8,43,9],[43,12,43,13],[43,16,43,17],[39,4,39,5],[39,8,39,9],[39,12,39,13],[39,16,39,17],[35,4,35,5],[35,8,35,9],[35,12,35,13],[35,16,35,17],[31,4,31,5],[31,8,31,9],[31,12,31,13],[31,16,31,17],[27,4,27,5],[27,8,27,9],[27,12,27,13],[27,16,27,17],[23,4,23,5],[23,8,23,9],[23,12,23,13],[23,16,23,17],[19,4,19,5],[19,8,19,9],[19,12,19,13],[19,16,19,17],[15,4,15,5],[15,8,15,9],[15,12,15,13],[15,16,15,17],[11,4,11,5],[11,8,11,9],[11,12,11,13],[11,16,11,17],[7,4,7,5],[7,8,7,9],[7,12,7,13],[7,16,7,17],[3,4,3,5],[3,8,3,9],[3,12,3,13],[3,16,3,17]]}
["Durchgang 1","Erg",null,"Durchgang 2",null,"Erg",null,"Durchgang 3",null,"Erg",null,"Durchgang 4",null,"Erg",null,"Durchgang 5",null,"Erg"]
[]
[{"$f":"Anmeldung!H2","v":0},null,null,{"$f":"IF(B3=B5,\"\",IF(B3>B5,A3,A5))","v":""},"s101",null,null,{"$f":"IF(F3=F5,\"\",IF(F3>F5,D3,D5))","v":""},"s201",null,null,{"$f":"IF(J3=J5,\"\",IF(J3>J5,H3,H5))","v":""},"s301",null,null,{"$f":"IF(N3=N5,\"\",IF(N3>N5,L3,L5))","v":""},"s401"]
[101,null,null,201,null,null,null,301,null,null,null,401,null,null,null,501]
[{"$f":"Anmeldung!H3","v":0},null,null,{"$f":"IF(B7=B9,\"\",IF(B7>B9,A7,A9))","v":""},"s102",null,null,{"$f":"IF(F7=F9,\"\",IF(F7>F9,D7,D9))","v":""},"s202",null,null,{"$f":"IF(J7=J9,\"\",IF(J7>J9,H7,H9))","v":""},"s302",null,null,{"$f":"IF(N7=N9,\"\",IF(N7>N9,L7,L9))","v":""},"s402"]
[]
[{"$f":"Anmeldung!H4","v":0},null,null,{"$f":"IF(B11=B13,\"\",IF(B11>B13,A11,A13))","v":""},"s103",null,null,{"$f":"IF(F11=F13,\"\",IF(F11>F13,D11,D13))","v":""},"s203",null,null,{"$f":"IF(J11=J13,\"\",IF(J11>J13,H11,H13))","v":""},"s303",null,null,{"$f":"IF(N11=N13,\"\",IF(N11>N13,L11,L13))","v":""},"s403"]
[102,null,null,202,null,null,null,302,null,null,null,402,null,null,null,502]
[{"$f":"Anmeldung!H5","v":0},null,null,{"$f":"IF(B15=B17,\"\",IF(B15>B17,A15,A17))","v":""},"s104",null,null,{"$f":"IF(F15=F17,\"\",IF(F15>F17,D15,D17))","v":""},"s204",null,null,{"$f":"IF(J15=J17,\"\",IF(J15>J17,H15,H17))","v":""},"s304",null,null,{"$f":"IF(N15=N17,\"\",IF(N15>N17,L15,L17))","v":""},"s404"]
[]
[{"$f":"Anmeldung!H6","v":0},null,null,{"$f":"IF(B19=B21,\"\",IF(B19>B21,A19,A21))","v":""},"s105",null,null,{"$f":"IF(F19=F21,\"\",IF(F19>F21,D19,D21))","v":""},"s205",null,null,{"$f":"IF(J19=J21,\"\",IF(J19>J21,H19,H21))","v":""},"s305",null,null,{"$f":"IF(N19=N21,\"\",IF(N19>N21,L19,L21))","v":""},"s405"]
[103,null,null,203,null,null,null,303,null,null,null,403,null,null,null,503]
[{"$f":"Anmeldung!H7","v":0},null,null,{"$f":"IF(B23=B25,\"\",IF(B23>B25,A23,A25))","v":""},"s106",null,null,{"$f":"IF(F23=F25,\"\",IF(F23>F25,D23,D25))","v":""},"s206",null,null,{"$f":"IF(J23=J25,\"\",IF(J23>J25,H23,H25))","v":""},"s306",null,null,{"$f":"IF(N23=N25,\"\",IF(N23>N25,L23,L25))","v":""},"s406"]
[]
[{"$f":"Anmeldung!H8","v":0},null,null,{"$f":"IF(B27=B29,\"\",IF(B27>B29,A27,A29))","v":""},"s107",null,null,{"$f":"IF(F27=F29,\"\",IF(F27>F29,D27,D29))","v":""},"s207",null,null,{"$f":"IF(J27=J29,\"\",IF(J27>J29,H27,H29))","v":""},"s307",null,null,{"$f":"IF(N27=N29,\"\",IF(N27>N29,L27,L29))","v":""},"s407"]
[104,null,null,204,null,null,null,304,null,null,null,404,null,null,null,504]
[{"$f":"Anmeldung!H9","v":0},null,null,{"$f":"IF(B31=B33,\"\",IF(B31>B33,A31,A33))","v":""},"s108",null,null,{"$f":"IF(F31=F33,\"\",IF(F31>F33,D31,D33))","v":""},"s208",null,null,{"$f":"IF(J31=J33,\"\",IF(J31>J33,H31,H33))","v":""},"s308",null,null,{"$f":"IF(N31=N33,\"\",IF(N31>N33,L31,L33))","v":""},"s408"]
[]
[{"$f":"Anmeldung!H10","v":0},null,null,{"$f":"IF(B35=B37,\"\",IF(B35>B37,A35,A37))","v":""},"s109",null,null,{"$f":"IF(F35=F37,\"\",IF(F35>F37,D35,D37))","v":""},"s209",null,null,{"$f":"IF(J35=J37,\"\",IF(J35>J37,H35,H37))","v":""},"s309",null,null,{"$f":"IF(N35=N37,\"\",IF(N35>N37,L35,L37))","v":""},"s409"]
[105,null,null,205,null,null,null,305,null,null,null,405,null,null,null,505]
[{"$f":"Anmeldung!H11","v":0},null,null,{"$f":"IF(B39=B41,\"\",IF(B39>B41,A39,A41))","v":""},"s110",null,null,{"$f":"IF(F39=F41,\"\",IF(F39>F41,D39,D41))","v":""},"s210",null,null,{"$f":"IF(J39=J41,\"\",IF(J39>J41,H39,H41))","v":""},"s310",null,null,{"$f":"IF(N39=N41,\"\",IF(N39>N41,L39,L41))","v":""},"s410"]
[]
[{"$f":"Anmeldung!H12","v":0},null,null,{"$f":"IF(B43=B45,\"\",IF(B43>B45,A43,A45))","v":""},"s111",null,null,{"$f":"IF(F43=F45,\"\",IF(F43>F45,D43,D45))","v":""},"s211",null,null,{"$f":"IF(J43=J45,\"\",IF(J43>J45,H43,H45))","v":""},"s311",null,null,{"$f":"IF(N43=N45,\"\",IF(N43>N45,L43,L45))","v":""},"s411"]
[106,null,null,206,null,null,null,306,null,null,null,406,null,null,null,506]
[{"$f":"Anmeldung!H13","v":0},null,null,{"$f":"IF(B47=B49,\"\",IF(B47>B49,A47,A49))","v":""},"s112",null,null,{"$f":"IF(F47=F49,\"\",IF(F47>F49,D47,D49))","v":""},"s212",null,null,{"$f":"IF(J47=J49,\"\",IF(J47>J49,H47,H49))","v":""},"s312",null,null,{"$f":"IF(N47=N49,\"\",IF(N47>N49,L47,L49))","v":""},"s412"]
[]
[{"$f":"Anmeldung!H14","v":0},null,null,{"$f":"IF(B51=B53,\"\",IF(B51>B53,A51,A53))","v":""},"s113",null,null,{"$f":"IF(F51=F53,\"\",IF(F51>F53,D51,D53))","v":""},"s213",null,null,{"$f":"IF(J51=J53,\"\",IF(J51>J53,H51,H53))","v":""},"s313",null,null,{"$f":"IF(N51=N53,\"\",IF(N51>N53,L51,L53))","v":""},"s413"]
[107,null,null,207,null,null,null,307,null,null,null,407,null,null,null,507]
[{"$f":"Anmeldung!H15","v":0},null,null,{"$f":"IF(B55=B57,\"\",IF(B55>B57,A55,A57))","v":""},"s114",null,null,{"$f":"IF(F55=F57,\"\",IF(F55>F57,D55,D57))","v":""},"s214",null,null,{"$f":"IF(J55=J57,\"\",IF(J55>J57,H55,H57))","v":""},"s314",null,null,{"$f":"IF(N55=N57,\"\",IF(N55>N57,L55,L57))","v":""},"s414"]
[]
[{"$f":"Anmeldung!H16","v":0},null,null,{"$f":"IF(B59=B61,\"\",IF(B59>B61,A59,A61))","v":""},"s115",null,null,{"$f":"IF(F59=F61,\"\",IF(F59>F61,D59,D61))","v":""},"s215",null,null,{"$f":"IF(J59=J61,\"\",IF(J59>J61,H59,H61))","v":""},"s315",null,null,{"$f":"IF(N59=N61,\"\",IF(N59>N61,L59,L61))","v":""},"s415"]
[108,null,null,208,null,null,null,308,null,null,null,408,null,null,null,508]
[{"$f":"Anmeldung!H17","v":0},null,null,{"$f":"IF(B3=B5,\"\",IF(B3<B5,A3,A5))","v":""},"s116",null,null,{"$f":"IF(F3=F5,\"\",IF(F3<F5,D3,D5))","v":""},"s216",null,null,{"$f":"IF(J3=J5,\"\",IF(J3<J5,H3,H5))","v":""},"s316",null,null,{"$f":"IF(N3=N5,\"\",IF(N3<N5,L3,L5))","v":""},"s416"]
[]
[{"$f":"Anmeldung!H18","v":0},null,null,{"$f":"IF(B7=B9,\"\",IF(B7<B9,A7,A9))","v":""},"v101",null,null,{"$f":"IF(F7=F9,\"\",IF(F7<F9,D7,D9))","v":""},"v201",null,null,{"$f":"IF(J7=J9,\"\",IF(J7<J9,H7,H9))","v":""},"v301",null,null,{"$f":"IF(N7=N9,\"\",IF(N7<N9,L7,L9))","v":""},"v401"]
[109,null,null,209,null,null,null,309,null,null,null,409,null,null,null,509]
[{"$f":"Anmeldung!H19","v":0},null,null,{"$f":"IF(B11=B13,\"\",IF(B11<B13,A11,A13))","v":""},"v102",null,null,{"$f":"IF(F11=F13,\"\",IF(F11<F13,D11,D13))","v":""},"v202",null,null,{"$f":"IF(J11=J13,\"\",IF(J11<J13,H11,H13))","v":""},"v302",null,null,{"$f":"IF(N11=N13,\"\",IF(N11<N13,L11,L13))","v":""},"v402"]
[]
[{"$f":"Anmeldung!H20","v":0},null,null,{"$f":"IF(B15=B17,\"\",IF(B15<B17,A15,A17))","v":""},"v103",null,null,{"$f":"IF(F15=F17,\"\",IF(F15<F17,D15,D17))","v":""},"v203",null,null,{"$f":"IF(J15=J17,\"\",IF(J15<J17,H15,H17))","v":""},"v303",null,null,{"$f":"IF(N15=N17,\"\",IF(N15<N17,L15,L17))","v":""},"v403"]
[110,null,null,210,null,null,null,310,null,null,null,410,null,null,null,510]
[{"$f":"Anmeldung!H21","v":0},null,null,{"$f":"IF(B19=B21,\"\",IF(B19<B21,A19,A21))","v":""},"v104",null,null,{"$f":"IF(F19=F21,\"\",IF(F19<F21,D19,D21))","v":""},"v204",null,null,{"$f":"IF(J19=J21,\"\",IF(J19<J21,H19,H21))","v":""},"v304",null,null,{"$f":"IF(N19=N21,\"\",IF(N19<N21,L19,L21))","v":""},"v404"]
[]
[{"$f":"Anmeldung!H22","v":0},null,null,{"$f":"IF(B23=B25,\"\",IF(B23<B25,A23,A25))","v":""},"v105",null,null,{"$f":"IF(F23=F25,\"\",IF(F23<F25,D23,D25))","v":""},"v205",null,null,{"$f":"IF(J23=J25,\"\",IF(J23<J25,H23,H25))","v":""},"v305",null,null,{"$f":"IF(N23=N25,\"\",IF(N23<N25,L23,L25))","v":""},"v405"]
[111,null,null,211,null,null,null,311,null,null,null,411,null,null,null,511]
[{"$f":"Anmeldung!H23","v":0},null,null,{"$f":"IF(B27=B29,\"\",IF(B27<B29,A27,A29))","v":""},"v106",null,null,{"$f":"IF(F27=F29,\"\",IF(F27<F29,D27,D29))","v":""},"v206",null,null,{"$f":"IF(J27=J29,\"\",IF(J27<J29,H27,H29))","v":""},"v306",null,null,{"$f":"IF(N27=N29,\"\",IF(N27<N29,L27,L29))","v":""},"v406"]
[]
[{"$f":"Anmeldung!H24","v":0},null,null,{"$f":"IF(B31=B33,\"\",IF(B31<B33,A31,A33))","v":""},"v107",null,null,{"$f":"IF(F31=F33,\"\",IF(F31<F33,D31,D33))","v":""},"v207",null,null,{"$f":"IF(J31=J33,\"\",IF(J31<J33,H31,H33))","v":""},"v307",null,null,{"$f":"IF(N31=N33,\"\",IF(N31<N33,L31,L33))","v":""},"v407"]
[112,null,null,212,null,null,null,312,null,null,null,412,null,null,null,512]
[{"$f":"Anmeldung!H25","v":0},null,null,{"$f":"IF(B35=B37,\"\",IF(B35<B37,A35,A37))","v":""},"v108",null,null,{"$f":"IF(F35=F37,\"\",IF(F35<F37,D35,D37))","v":""},"v208",null,null,{"$f":"IF(J35=J37,\"\",IF(J35<J37,H35,H37))","v":""},"v308",null,null,{"$f":"IF(N35=N37,\"\",IF(N35<N37,L35,L37))","v":""},"v408"]
[]
[{"$f":"Anmeldung!H26","v":0},null,null,{"$f":"IF(B39=B41,\"\",IF(B39<B41,A39,A41))","v":""},"v109",null,null,{"$f":"IF(F39=F41,\"\",IF(F39<F41,D39,D41))","v":""},"v209",null,null,{"$f":"IF(J39=J41,\"\",IF(J39<J41,H39,H41))","v":""},"v309",null,null,{"$f":"IF(N39=N41,\"\",IF(N39<N41,L39,L41))","v":""},"v409"]
[113,null,null,213,null,null,null,313,null,null,null,413,null,null,null,513]
[{"$f":"Anmeldung!H27","v":0},null,null,{"$f":"IF(B43=B45,\"\",IF(B43<B45,A43,A45))","v":""},"v110",null,null,{"$f":"IF(F43=F45,\"\",IF(F43<F45,D43,D45))","v":""},"v210",null,null,{"$f":"IF(J43=J45,\"\",IF(J43<J45,H43,H45))","v":""},"v310",null,null,{"$f":"IF(N43=N45,\"\",IF(N43<N45,L43,L45))","v":""},"v410"]
[]
[{"$f":"Anmeldung!H28","v":0},null,null,{"$f":"IF(B47=B49,\"\",IF(B47<B49,A47,A49))","v":""},"v111",null,null,{"$f":"IF(F47=F49,\"\",IF(F47<F49,D47,D49))","v":""},"v211",null,null,{"$f":"IF(J47=J49,\"\",IF(J47<J49,H47,H49))","v":""},"v311",null,null,{"$f":"IF(N47=N49,\"\",IF(N47<N49,L47,L49))","v":""},"v411"]
[114,null,null,214,null,null,null,314,null,null,null,414,null,null,null,514]
[{"$f":"Anmeldung!H29","v":0},null,null,{"$f":"IF(B51=B53,\"\",IF(B51<B53,A51,A53))","v":""},"v112",null,null,{"$f":"IF(F51=F53,\"\",IF(F51<F53,D51,D53))","v":""},"v212",null,null,{"$f":"IF(J51=J53,\"\",IF(J51<J53,H51,H53))","v":""},"v312",null,null,{"$f":"IF(N51=N53,\"\",IF(N51<N53,L51,L53))","v":""},"v412"]
[]
[{"$f":"Anmeldung!H30","v":0},null,null,{"$f":"IF(B55=B57,\"\",IF(B55<B57,A55,A57))","v":""},"v113",null,null,{"$f":"IF(F55=F57,\"\",IF(F55<F57,D55,D57))","v":""},"v213",null,null,{"$f":"IF(J55=J57,\"\",IF(J55<J57,H55,H57))","v":""},"v313",null,null,{"$f":"IF(N55=N57,\"\",IF(N55<N57,L55,L57))","v":""},"v413"]
[115,null,null,215,null,null,null,315,null,null,null,415,null,null,null,515]
[{"$f":"Anmeldung!H31","v":0},null,null,{"$f":"IF(B59=B61,\"\",IF(B59<B61,A59,A61))","v":""},"v114",null,null,{"$f":"IF(F59=F61,\"\",IF(F59<F61,D59,D61))","v":""},"v214",null,null,{"$f":"IF(J59=J61,\"\",IF(J59<J61,H59,H61))","v":""},"v314",null,null,{"$f":"IF(N59=N61,\"\",IF(N59<N61,L59,L61))","v":""},"v414"]

{"sheet":"32er Plan","index":14,"n_rows":65,"n_cols":18,"rows_kept":65,"cut":false,"hidden":true,"merged":[[51,16,51,17],[47,16,47,17],[63,12,63,13],[63,16,63,17],[59,16,59,17],[55,16,55,17],[47,12,47,13],[51,12,51,13],[55,12,55,13],[59,12,59,13],[63,4,63,5],[47,8,47,9],[51,8,51,9],[55,8,55,9],[59,8,59,9],[63,8,63,9],[47,4,47,5],[51,4,51,5],[55,4,55,5],[59,4,59,5],[35,4,35,5],[31,16,31,17],[35,16,35,17],[39,4,39,5],[43,4,43,5],[39,16,39,17],[31,8,31,9],[35,8,35,9],[35,12,35,13],[39,8,39,9],[43,8,43,9],[15,16,15,17],[19,16,19,17],[23,16,23,17],[27,16,27,17],[27,8,27,9],[39,12,39,13],[43,12,43,13],[43,16,43,17],[3,12,3,13],[3,16,3,17],[7,16,7,17],[11,16,11,17],[31,12,31,13],[27,12,27,13],[23,12,23,13],[7,12,7,13],[19,12,19,13],[15,12,15,13],[11,12,11,13],[7,4,7,5],[11,4,11,5],[15,4,15,5],[19,4,19,5],[31,4,31,5],[23,4,23,5],[3,8,3,9],[7,8,7,9],[11,8,11,9],[15,8,15,9],[19,8,19,9],[23,8,23,9],[3,4,3,5],[27,4,27,5]]}
["Durchgang 1","Erg",null,"Durchgang 2",null,"Erg",null,"Durchgang 3",null,"Erg",null,"Durchgang 4",null,"Erg",null,"Durchgang 5",null,"Erg"]
[]
[{"$f":"Anmeldung!H2","v":0},null,null,{"$f":"IF(B3=B5,\"\",IF(B3>B5,A3,A5))","v":""},"s101",null,null,{"$f":"IF(F3=F5,\"\",IF(F3>F5,D3,D5))","v":""},"s201",null,null,{"$f":"IF(J3=J5,\"\",IF(J3>J5,H3,H5))","v":""},"s301",null,null,{"$f":"IF(N3=N5,\"\",IF(N3>N5,L3,L5))","v":""},"s401"]
[101,null,null,201,null,null,null,301,null,null,null,401,null,null,null,501]
[{"$f":"Anmeldung!H3","v":0},null,null,{"$f":"IF(B7=B9,\"\",IF(B7>B9,A7,A9))","v":""},"s102",null,null,{"$f":"IF(F7=F9,\"\",IF(F7>F9,D7,D9))","v":""},"s202",null,null,{"$f":"IF(J7=J9,\"\",IF(J7>J9,H7,H9))","v":""},"s302",null,null,{"$f":"IF(N7=N9,\"\",IF(N7>N9,L7,L9))","v":""},"s402"]
[]
[{"$f":"Anmeldung!H4","v":0},null,null,{"$f":"IF(B11=B13,\"\",IF(B11>B13,A11,A13))","v":""},"s103",null,null,{"$f":"IF(F11=F13,\"\",IF(F11>F13,D11,D13))","v":""},"s203",null,null,{"$f":"IF(J11=J13,\"\",IF(J11>J13,H11,H13))","v":""},"s303",null,null,{"$f":"IF(N11=N13,\"\",IF(N11>N13,L11,L13))","v":""},"s403"]
[102,null,null,202,null,null,null,302,null,null,null,402,null,null,null,502]
[{"$f":"Anmeldung!H5","v":0},null,null,{"$f":"IF(B15=B17,\"\",IF(B15>B17,A15,A17))","v":""},"s104",null,null,{"$f":"IF(F15=F17,\"\",IF(F15>F17,D15,D17))","v":""},"s204",null,null,{"$f":"IF(J15=J17,\"\",IF(J15>J17,H15,H17))","v":""},"s304",null,null,{"$f":"IF(N15=N17,\"\",IF(N15>N17,L15,L17))","v":""},"s404"]
[]
[{"$f":"Anmeldung!H6","v":0},null,null,{"$f":"IF(B19=B21,\"\",IF(B19>B21,A19,A21))","v":""},"s105",null,null,{"$f":"IF(F19=F21,\"\",IF(F19>F21,D19,D21))","v":""},"s205",null,null,{"$f":"IF(J19=J21,\"\",IF(J19>J21,H19,H21))","v":""},"s305",null,null,{"$f":"IF(N19=N21,\"\",IF(N19>N21,L19,L21))","v":""},"s405"]
[103,null,null,203,null,null,null,303,null,null,null,403,null,null,null,503]
[{"$f":"Anmeldung!H7","v":0},null,null,{"$f":"IF(B23=B25,\"\",IF(B23>B25,A23,A25))","v":""},"s106",null,null,{"$f":"IF(F23=F25,\"\",IF(F23>F25,D23,D25))","v":""},"s206",null,null,{"$f":"IF(J23=J25,\"\",IF(J23>J25,H23,H25))","v":""},"s306",null,null,{"$f":"IF(N23=N25,\"\",IF(N23>N25,L23,L25))","v":""},"s406"]
[]
[{"$f":"Anmeldung!H8","v":0},null,null,{"$f":"IF(B27=B29,\"\",IF(B27>B29,A27,A29))","v":""},"s107",null,null,{"$f":"IF(F27=F29,\"\",IF(F27>F29,D27,D29))","v":""},"s207",null,null,{"$f":"IF(J27=J29,\"\",IF(J27>J29,H27,H29))","v":""},"s307",null,null,{"$f":"IF(N27=N29,\"\",IF(N27>N29,L27,L29))","v":""},"s407"]
[104,null,null,204,null,null,null,304,null,null,null,404,null,null,null,504]
[{"$f":"Anmeldung!H9","v":0},null,null,{"$f":"IF(B31=B33,\"\",IF(B31>B33,A31,A33))","v":""},"s108",null,null,{"$f":"IF(F31=F33,\"\",IF(F31>F33,D31,D33))","v":""},"s208",null,null,{"$f":"IF(J31=J33,\"\",IF(J31>J33,H31,H33))","v":""},"s308",null,null,{"$f":"IF(N31=N33,\"\",IF(N31>N33,L31,L33))","v":""},"s408"]
[]
[{"$f":"Anmeldung!H10","v":0},null,null,{"$f":"IF(B35=B37,\"\",IF(B35>B37,A35,A37))","v":""},"s109",null,null,{"$f":"IF(F35=F37,\"\",IF(F35>F37,D35,D37))","v":""},"s209",null,null,{"$f":"IF(J35=J37,\"\",IF(J35>J37,H35,H37))","v":""},"s309",null,null,{"$f":"IF(N35=N37,\"\",IF(N35>N37,L35,L37))","v":""},"s409"]
[105,null,null,205,null,null,null,305,null,null,null,405,null,null,null,505]
[{"$f":"Anmeldung!H11","v":0},null,null,{"$f":"IF(B39=B41,\"\",IF(B39>B41,A39,A41))","v":""},"s110",null,null,{"$f":"IF(F39=F41,\"\",IF(F39>F41,D39,D41))","v":""},"s210",null,null,{"$f":"IF(J39=J41,\"\",IF(J39>J41,H39,H41))","v":""},"s310",null,null,{"$f":"IF(N39=N41,\"\",IF(N39>N41,L39,L41))","v":""},"s410"]
[]
[{"$f":"Anmeldung!H12","v":0},null,null,{"$f":"IF(B43=B45,\"\",IF(B43>B45,A43,A45))","v":""},"s111",null,null,{"$f":"IF(F43=F45,\"\",IF(F43>F45,D43,D45))","v":""},"s211",null,null,{"$f":"IF(J43=J45,\"\",IF(J43>J45,H43,H45))","v":""},"s311",null,null,{"$f":"IF(N43=N45,\"\",IF(N43>N45,L43,L45))","v":""},"s411"]
[106,null,null,206,null,null,null,306,null,null,null,406,null,null,null,506]
[{"$f":"Anmeldung!H13","v":0},null,null,{"$f":"IF(B47=B49,\"\",IF(B47>B49,A47,A49))","v":""},"s112",null,null,{"$f":"IF(F47=F49,\"\",IF(F47>F49,D47,D49))","v":""},"s212",null,null,{"$f":"IF(J47=J49,\"\",IF(J47>J49,H47,H49))","v":""},"s312",null,null,{"$f":"IF(N47=N49,\"\",IF(N47>N49,L47,L49))","v":""},"s412"]
[]
[{"$f":"Anmeldung!H14","v":0},null,null,{"$f":"IF(B51=B53,\"\",IF(B51>B53,A51,A53))","v":""},"s113",null,null,{"$f":"IF(F51=F53,\"\",IF(F51>F53,D51,D53))","v":""},"s213",null,null,{"$f":"IF(J51=J53,\"\",IF(J51>J53,H51,H53))","v":""},"s313",null,null,{"$f":"IF(N51=N53,\"\",IF(N51>N53,L51,L53))","v":""},"s413"]
[107,null,null,207,null,null,null,307,null,null,null,407,null,null,null,507]
[{"$f":"Anmeldung!H15","v":0},null,null,{"$f":"IF(B55=B57,\"\",IF(B55>B57,A55,A57))","v":""},"s114",null,null,{"$f":"IF(F55=F57,\"\",IF(F55>F57,D55,D57))","v":""},"s214",null,null,{"$f":"IF(J55=J57,\"\",IF(J55>J57,H55,H57))","v":""},"s314",null,null,{"$f":"IF(N55=N57,\"\",IF(N55>N57,L55,L57))","v":""},"s414"]
[]
[{"$f":"Anmeldung!H16","v":0},null,null,{"$f":"IF(B59=B61,\"\",IF(B59>B61,A59,A61))","v":""},"s115",null,null,{"$f":"IF(F59=F61,\"\",IF(F59>F61,D59,D61))","v":""},"s215",null,null,{"$f":"IF(J59=J61,\"\",IF(J59>J61,H59,H61))","v":""},"s315",null,null,{"$f":"IF(N59=N61,\"\",IF(N59>N61,L59,L61))","v":""},"s415"]
[108,null,null,208,null,null,null,308,null,null,null,408,null,null,null,508]
[{"$f":"Anmeldung!H17","v":0},null,null,{"$f":"IF(B63=B65,\"\",IF(B63>B65,A63,A65))","v":""},"s116",null,null,{"$f":"IF(F63=F65,\"\",IF(F63>F65,D63,D65))","v":""},"s216",null,null,{"$f":"IF(J63=J65,\"\",IF(J63>J65,H63,H65))","v":""},"s316",null,null,{"$f":"IF(N63=N65,\"\",IF(N63>N65,L63,L65))","v":""},"s416"]
[]
[{"$f":"Anmeldung!H18","v":0},null,null,{"$f":"IF(B3=B5,\"\",IF(B3<B5,A3,A5))","v":""},"v101",null,null,{"$f":"IF(F3=F5,\"\",IF(F3<F5,D3,D5))","v":""},"v201",null,null,{"$f":"IF(J3=J5,\"\",IF(J3<J5,H3,H5))","v":""},"v301",null,null,{"$f":"IF(N3=N5,\"\",IF(N3<N5,L3,L5))","v":""},"v401"]
[109,null,null,209,null,null,null,309,null,null,null,409,null,null,null,509]
[{"$f":"Anmeldung!H19","v":0},null,null,{"$f":"IF(B7=B9,\"\",IF(B7<B9,A7,A9))","v":""},"v102",null,null,{"$f":"IF(F7=F9,\"\",IF(F7<F9,D7,D9))","v":""},"v202",null,null,{"$f":"IF(J7=J9,\"\",IF(J7<J9,H7,H9))","v":""},"v302",null,null,{"$f":"IF(N7=N9,\"\",IF(N7<N9,L7,L9))","v":""},"v402"]
[]
[{"$f":"Anmeldung!H20","v":0},null,null,{"$f":"IF(B11=B13,\"\",IF(B11<B13,A11,A13))","v":""},"v103",null,null,{"$f":"IF(F11=F13,\"\",IF(F11<F13,D11,D13))","v":""},"v203",null,null,{"$f":"IF(J11=J13,\"\",IF(J11<J13,H11,H13))","v":""},"v303",null,null,{"$f":"IF(N11=N13,\"\",IF(N11<N13,L11,L13))","v":""},"v403"]
[110,null,null,210,null,null,null,310,null,null,null,410,null,null,null,510]
[{"$f":"Anmeldung!H21","v":0},null,null,{"$f":"IF(B15=B17,\"\",IF(B15<B17,A15,A17))","v":""},"v104",null,null,{"$f":"IF(F15=F17,\"\",IF(F15<F17,D15,D17))","v":""},"v204",null,null,{"$f":"IF(J15=J17,\"\",IF(J15<J17,H15,H17))","v":""},"v304",null,null,{"$f":"IF(N15=N17,\"\",IF(N15<N17,L15,L17))","v":""},"v404"]
[]
[{"$f":"Anmeldung!H22","v":0},null,null,{"$f":"IF(B19=B21,\"\",IF(B19<B21,A19,A21))","v":""},"v105",null,null,{"$f":"IF(F19=F21,\"\",IF(F19<F21,D19,D21))","v":""},"v205",null,null,{"$f":"IF(J19=J21,\"\",IF(J19<J21,H19,H21))","v":""},"v305",null,null,{"$f":"IF(N19=N21,\"\",IF(N19<N21,L19,L21))","v":""},"v405"]
[111,null,null,211,null,null,null,311,null,null,null,411,null,null,null,511]
[{"$f":"Anmeldung!H23","v":0},null,null,{"$f":"IF(B23=B25,\"\",IF(B23<B25,A23,A25))","v":""},"v106",null,null,{"$f":"IF(F23=F25,\"\",IF(F23<F25,D23,D25))","v":""},"v206",null,null,{"$f":"IF(J23=J25,\"\",IF(J23<J25,H23,H25))","v":""},"v306",null,null,{"$f":"IF(N23=N25,\"\",IF(N23<N25,L23,L25))","v":""},"v406"]
[]
[{"$f":"Anmeldung!H24","v":0},null,null,{"$f":"IF(B27=B29,\"\",IF(B27<B29,A27,A29))","v":""},"v107",null,null,{"$f":"IF(F27=F29,\"\",IF(F27<F29,D27,D29))","v":""},"v207",null,null,{"$f":"IF(J27=J29,\"\",IF(J27<J29,H27,H29))","v":""},"v307",null,null,{"$f":"IF(N27=N29,\"\",IF(N27<N29,L27,L29))","v":""},"v407"]
[112,null,null,212,null,null,null,312,null,null,null,412,null,null,null,512]
[{"$f":"Anmeldung!H25","v":0},null,null,{"$f":"IF(B31=B33,\"\",IF(B31<B33,A31,A33))","v":""},"v108",null,null,{"$f":"IF(F31=F33,\"\",IF(F31<F33,D31,D33))","v":""},"v208",null,null,{"$f":"IF(J31=J33,\"\",IF(J31<J33,H31,H33))","v":""},"v308",null,null,{"$f":"IF(N31=N33,\"\",IF(N31<N33,L31,L33))","v":""},"v408"]
[]
[{"$f":"Anmeldung!H26","v":0},null,null,{"$f":"IF(B35=B37,\"\",IF(B35<B37,A35,A37))","v":""},"v109",null,null,{"$f":"IF(F35=F37,\"\",IF(F35<F37,D35,D37))","v":""},"v209",null,null,{"$f":"IF(J35=J37,\"\",IF(J35<J37,H35,H37))","v":""},"v309",null,null,{"$f":"IF(N35=N37,\"\",IF(N35<N37,L35,L37))","v":""},"v409"]
[113,null,null,213,null,null,null,313,null,null,null,413,null,null,null,513]
[{"$f":"Anmeldung!H27","v":0},null,null,{"$f":"IF(B39=B41,\"\",IF(B39<B41,A39,A41))","v":""},"v110",null,null,{"$f":"IF(F39=F41,\"\",IF(F39<F41,D39,D41))","v":""},"v210",null,null,{"$f":"IF(J39=J41,\"\",IF(J39<J41,H39,H41))","v":""},"v310",null,null,{"$f":"IF(N39=N41,\"\",IF(N39<N41,L39,L41))","v":""},"v410"]
[]
[{"$f":"Anmeldung!H28","v":0},null,null,{"$f":"IF(B43=B45,\"\",IF(B43<B45,A43,A45))","v":""},"v111",null,null,{"$f":"IF(F43=F45,\"\",IF(F43<F45,D43,D45))","v":""},"v211",null,null,{"$f":"IF(J43=J45,\"\",IF(J43<J45,H43,H45))","v":""},"v311",null,null,{"$f":"IF(N43=N45,\"\",IF(N43<N45,L43,L45))","v":""},"v411"]
[114,null,null,214,null,null,null,314,null,null,null,414,null,null,null,514]
[{"$f":"Anmeldung!H29","v":0},null,null,{"$f":"IF(B47=B49,\"\",IF(B47<B49,A47,A49))","v":""},"v112",null,null,{"$f":"IF(F47=F49,\"\",IF(F47<F49,D47,D49))","v":""},"v212",null,null,{"$f":"IF(J47=J49,\"\",IF(J47<J49,H47,H49))","v":""},"v312",null,null,{"$f":"IF(N47=N49,\"\",IF(N47<N49,L47,L49))","v":""},"v412"]
[]
[{"$f":"Anmeldung!H30","v":0},null,null,{"$f":"IF(B51=B53,\"\",IF(B51<B53,A51,A53))","v":""},"v113",null,null,{"$f":"IF(F51=F53,\"\",IF(F51<F53,D51,D53))","v":""},"v213",null,null,{"$f":"IF(J51=J53,\"\",IF(J51<J53,H51,H53))","v":""},"v313",null,null,{"$f":"IF(N51=N53,\"\",IF(N51<N53,L51,L53))","v":""},"v413"]
[115,null,null,215,null,null,null,315,null,null,null,415,null,null,null,515]
[{"$f":"Anmeldung!H31","v":0},null,null,{"$f":"IF(B55=B57,\"\",IF(B55<B57,A55,A57))","v":""},"v114",null,null,{"$f":"IF(F55=F57,\"\",IF(F55<F57,D55,D57))","v":""},"v214",null,null,{"$f":"IF(J55=J57,\"\",IF(J55<J57,H55,H57))","v":""},"v314",null,null,{"$f":"IF(N55=N57,\"\",IF(N55<N57,L55,L57))","v":""},"v414"]
[]
[{"$f":"Anmeldung!H32","v":0},null,null,{"$f":"IF(B59=B61,\"\",IF(B59<B61,A59,A61))","v":""},"v115",null,null,{"$f":"IF(F59=F61,\"\",IF(F59<F61,D59,D61))","v":""},"v215",null,null,{"$f":"IF(J59=J61,\"\",IF(J59<J61,H59,H61))","v":""},"v315",null,null,{"$f":"IF(N59=N61,\"\",IF(N59<N61,L59,L61))","v":""},"v415"]
[116,null,null,216,null,null,null,316,null,null,null,416,null,null,null,516]
[{"$f":"Anmeldung!H33","v":0},null,null,{"$f":"IF(B63=B65,\"\",IF(B63<B65,A63,A65))","v":""},"v116",null,null,{"$f":"IF(F63=F65,\"\",IF(F63<F65,D63,D65))","v":""},"v216",null,null,{"$f":"IF(J63=J65,\"\",IF(J63<J65,H63,H65))","v":""},"v316",null,null,{"$f":"IF(N63=N65,\"\",IF(N63<N65,L63,L65))","v":""},"v416"]

{"sheet":"Partien drucken","index":15,"n_rows":81,"n_cols":25,"rows_kept":81,"cut":false,"hidden":true,"merged":[[1,17,1,19],[1,2,1,5],[15,2,15,5],[29,2,29,5],[29,6,29,8],[29,13,29,16],[29,17,29,19],[1,6,1,8],[1,13,1,16],[15,6,15,8],[15,13,15,16],[43,2,43,5],[43,6,43,8],[43,13,43,16],[43,17,43,19],[15,17,15,19]]}
[]
[null,null,"Partie-Nr.:",null,null,null,null,null,null,null,null,null,null,"Tisch:",null,null,null,null,null,null,null,null,null,null,101]
[null,null,null,null,null,null,null,null,null,null,null,null,null,null,null,null,null,null,null,null,null,"Ergebnis:",null,null,102]
[null,"Spieler 1:",null,"Sp.1",null,"Sp.2",null,"Sp.3",null,"Sp.4",null,"Sp.5",null,"Sp.6",null,"Sp.7",null,"Sp.8",null,"Sp.9",null,null,null,null,103]
[null,null,null,null,null,null,null,null,null,null,null,null,null,null,null,null,null,null,null,null,null,null,null,null,104]
[null,null,null,null,null,null,null,null,null,null,null,null,null,null,null,null,null,null,null,null,null,null,null,null,105]
[null,null,null,null,null,null,null,null,null,null,null,null,null,null,null,null,null,null,null,null,null,null,null,null,106]
[null,"Spieler 2:",null,"Sp.1",null,"Sp.2",null,"Sp.3",null,"Sp.4",null,"Sp.5",null,"Sp.6",null,"Sp.7",null,"Sp.8",null,"Sp.9",null,null,null,null,107]
[null,null,null,null,null,null,null,null,null,null,null,null,null,null,null,null,null,null,null,null,null,null,null,null,108]
[null,null,null,null,null,null,null,null,null,null,null,null,null,null,null,null,null,null,null,null,null,null,null,null,109]
[null,null,null,null,null,null,null,null,null,null,null,null,null,null,null,null,null,null,null,null,null,null,null,null,110]
[null,null,null,null,null,null,null,null,null,null,null,null,null,null,null,null,null,null,null,null,null,null,null,null,111]
[null,null,null,null,null,null,null,null,null,null,null,null,null,null,null,null,null,null,null,null,null,null,null,null,112]
[null,null,null,null,null,null,null,null,null,null,null,null,null,null,null,null,null,null,null,null,null,null,null,null,113]
[null,null,null,null,null,null,null,null,null,null,null,null,null,null,null,null,null,null,null,null,null,null,null,null,114]
[null,null,"Partie-Nr.:",null,null,null,null,null,null,null,null,null,null,"Tisch:",null,null,null,null,null,null,null,null,null,null,115]
[null,null,null,null,null,null,null,null,null,null,null,null,null,null,null,null,null,null,null,null,null,"Ergebnis:",null,null,116]
[null,"Spieler 1:",null,"Sp.1",null,"Sp.2",null,"Sp.3",null,"Sp.4",null,"Sp.5",null,"Sp.6",null,"Sp.7",null,"Sp.8",null,"Sp.9",null,null,null,null,201]
[null,null,null,null,null,null,null,null,null,null,null,null,null,null,null,null,null,null,null,null,null,null,null,null,202]
[null,null,null,null,null,null,null,null,null,null,null,null,null,null,null,null,null,null,null,null,null,null,null,null,203]
[null,null,null,null,null,null,null,null,null,null,null,null,null,null,null,null,null,null,null,null,null,null,null,null,204]
[null,"Spieler 2:",null,"Sp.1",null,"Sp.2",null,"Sp.3",null,"Sp.4",null,"Sp.5",null,"Sp.6",null,"Sp.7",null,"Sp.8",null,"Sp.9",null,null,null,null,205]
[null,null,null,null,null,null,null,null,null,null,null,null,null,null,null,null,null,null,null,null,null,null,null,null,206]
[null,null,null,null,null,null,null,null,null,null,null,null,null,null,null,null,null,null,null,null,null,null,null,null,207]
[null,null,null,null,null,null,null,null,null,null,null,null,null,null,null,null,null,null,null,null,null,null,null,null,208]
[null,null,null,null,null,null,null,null,null,null,null,null,null,null,null,null,null,null,null,null,null,null,null,null,209]
[null,null,null,null,null,null,null,null,null,null,null,null,null,null,null,null,null,null,null,null,null,null,null,null,210]
[null,null,null,null,null,null,null,null,null,null,null,null,null,null,null,null,null,null,null,null,null,null,null,null,211]
[null,null,null,null,null,null,null,null,null,null,null,null,null,null,null,null,null,null,null,null,null,null,null,null,212]
[null,null,"Partie-Nr.:",null,null,null,null,null,null,null,null,null,null,"Tisch:",null,null,null,null,null,null,null,null,null,null,213]
[null,null,null,null,null,null,null,null,null,null,null,null,null,null,null,null,null,null,null,null,null,"Ergebnis:",null,null,214]
[null,"Spieler 1:",null,"Sp.1",null,"Sp.2",null,"Sp.3",null,"Sp.4",null,"Sp.5",null,"Sp.6",null,"Sp.7",null,"Sp.8",null,"Sp.9",null,null,null,null,215]
[null,null,null,null,null,null,null,null,null,null,null,null,null,null,null,null,null,null,null,null,null,null,null,null,216]
[null,null,null,null,null,null,null,null,null,null,null,null,null,null,null,null,null,null,null,null,null,null,null,null,301]
[null,null,null,null,null,null,null,null,null,null,null,null,null,null,null,null,null,null,null,null,null,null,null,null,302]
[null,"Spieler 2:",null,"Sp.1",null,"Sp.2",null,"Sp.3",null,"Sp.4",null,"Sp.5",null,"Sp.6",null,"Sp.7",null,"Sp.8",null,"Sp.9",null,null,null,null,303]
[null,null,null,null,null,null,null,null,null,null,null,null,null,null,null,null,null,null,null,null,null,null,null,null,304]
[null,null,null,null,null,null,null,null,null,null,null,null,null,null,null,null,null,null,null,null,null,null,null,null,305]
[null,null,null,null,null,null,null,null,null,null,null,null,null,null,null,null,null,null,null,null,null,null,null,null,306]
[null,null,null,null,null,null,null,null,null,null,null,null,null,null,null,null,null,null,null,null,null,null,null,null,307]
[null,null,null,null,null,null,null,null,null,null,null,null,null,null,null,null,null,null,null,null,null,null,null,null,308]
[null,null,null,null,null,null,null,null,null,null,null,null,null,null,null,null,null,null,null,null,null,null,null,null,309]
[null,null,null,null,null,null,null,null,null,null,null,null,null,null,null,null,null,null,null,null,null,null,null,null,310]
[null,null,"Partie-Nr.:",null,null,null,null,null,null,null,null,null,null,"Tisch:",null,null,null,null,null,null,null,null,null,null,311]
[null,null,null,null,null,null,null,null,null,null,null,null,null,null,null,null,null,null,null,null,null,"Ergebnis:",null,null,312]
[null,"Spieler 1:",null,"Sp.1",null,"Sp.2",null,"Sp.3",null,"Sp.4",null,"Sp.5",null,"Sp.6",null,"Sp.7",null,"Sp.8",null,"Sp.9",null,null,null,null,313]
[null,null,null,null,null,null,null,null,null,null,null,null,null,null,null,null,null,null,null,null,null,null,null,null,314]
[null,null,null,null,null,null,null,null,null,null,null,null,null,null,null,null,null,null,null,null,null,null,null,null,315]
[null,null,null,null,null,null,null,null,null,null,null,null,null,null,null,null,null,null,null,null,null,null,null,null,316]
[null,"Spieler 2:",null,"Sp.1",null,"Sp.2",null,"Sp.3",null,"Sp.4",null,"Sp.5",null,"Sp.6",null,"Sp.7",null,"Sp.8",null,"Sp.9",null,null,null,null,401]
[null,null,null,null,null,null,null,null,null,null,null,null,null,null,null,null,null,null,null,null,null,null,null,null,402]
[null,null,null,null,null,null,null,null,null,null,null,null,null,null,null,null,null,null,null,null,null,null,null,null,403]
[null,null,null,null,null,null,null,null,null,null,null,null,null,null,null,null,null,null,null,null,null,null,null,null,404]
[null,null,null,null,null,null,null,null,null,null,null,null,null,null,null,null,null,null,null,null,null,null,null,null,405]
[null,null,null,null,null,null,null,null,null,null,null,null,null,null,null,null,null,null,null,null,null,null,null,null,406]
[null,null,null,null,null,null,null,null,null,null,null,null,null,null,null,null,null,null,null,null,null,null,null,null,407]
[null,null,null,null,null,null,null,null,null,null,null,null,null,null,null,null,null,null,null,null,null,null,null,null,408]
[null,null,null,null,null,null,null,null,null,null,null,null,null,null,null,null,null,null,null,null,null,null,null,null,409]
[null,null,null,null,null,null,null,null,null,null,null,null,null,null,null,null,null,null,null,null,null,null,null,null,410]
[null,null,null,null,null,null,null,null,null,null,null,null,null,null,null,null,null,null,null,null,null,null,null,null,411]
[null,null,null,null,null,null,null,null,null,null,null,null,null,null,null,null,null,null,null,null,null,null,null,null,412]
[null,null,null,null,null,null,null,null,null,null,null,null,null,null,null,null,null,null,null,null,null,null,null,null,413]
[null,null,null,null,null,null,null,null,null,null,null,null,null,null,null,null,null,null,null,null,null,null,null,null,414]
[null,null,null,null,null,null,null,null,null,null,null,null,null,null,null,null,null,null,null,null,null,null,null,null,415]
[null,null,null,null,null,null,null,null,null,null,null,null,null,null,null,null,null,null,null,null,null,null,null,null,416]
[null,null,null,null,null,null,null,null,null,null,null,null,null,null,null,null,null,null,null,null,null,null,null,null,501]
[null,null,null,null,null,null,null,null,null,null,null,null,null,null,null,null,null,null,null,null,null,null,null,null,502]
[null,null,null,null,null,null,null,null,null,null,null,null,null,null,null,null,null,null,null,null,null,null,null,null,503]
[null,null,null,null,null,null,null,null,null,null,null,null,null,null,null,null,null,null,null,null,null,null,null,null,504]
[null,null,null,null,null,null,null,null,null,null,null,null,null,null,null,null,null,null,null,null,null,null,null,null,505]
[null,null,null,null,null,null,null,null,null,null,null,null,null,null,null,null,null,null,null,null,null,null,null,null,506]
[null,null,null,null,null,null,null,null,null,null,null,null,null,null,null,null,null,null,null,null,null,null,null,null,507]
[null,null,null,null,null,null,null,null,null,null,null,null,null,null,null,null,null,null,null,null,null,null,null,null,508]
[null,null,null,null,null,null,null,null,null,null,null,null,null,null,null,null,null,null,null,null,null,null,null,null,509]
[null,null,null,null,null,null,null,null,null,null,null,null,null,null,null,null,null,null,null,null,null,null,null,null,510]
[null,null,null,null,null,null,null,null,null,null,null,null,null,null,null,null,null,null,null,null,null,null,null,null,511]
[null,null,null,null,null,null,null,null,null,null,null,null,null,null,null,null,null,null,null,null,null,null,null,null,512]
[null,null,null,null,null,null,null,null,null,null,null,null,null,null,null,null,null,null,null,null,null,null,null,null,513]
[null,null,null,null,null,null,null,null,null,null,null,null,null,null,null,null,null,null,null,null,null,null,null,null,514]
[null,null,null,null,null,null,null,null,null,null,null,null,null,null,null,null,null,null,null,null,null,null,null,null,515]
[null,null,null,null,null,null,null,null,null,null,null,null,null,null,null,null,null,null,null,null,null,null,null,null,516]

{"sheet":"Tabelle","index":16,"n_rows":33,"n_cols":24,"rows_kept":33,"cut":false,"hidden":false,"merged":[[0,17,0,19],[0,20,0,22],[0,5,0,7],[0,2,0,4],[0,8,0,10],[0,11,0,13],[0,14,0,16]]}
["Platz","Teilnehmer","Durchgang 1",null,null,"Durchgang 2",null,null,"Durchgang 3",null,null,"Durchgang 4",null,null,"Durchgang 5",null,null,"Spiele",null,null,"Sätze",null,null,"Quote"]
[1,null,null,":",null,null,":",null,null,":",null,null,":",null,null,":",null,{"$f":"C2+F2+I2+L2+O2","v":0},":",{"$f":"E2+H2+K2+N2+Q2","v":0},{"$f":"IF(C2>E2,1,0)+IF(F2>H2,1,0)+IF(I2>K2,1,0)+IF(L2>N2,1,0)+IF(O2>Q2,1,0)","v":0},":",{"$f":"IF(E2>C2,1,0)+IF(H2>F2,1,0)+IF(K2>I2,1,0)+IF(N2>L2,1,0)+IF(Q2>O2,1,0)","v":0},{"$f":"R2-T2","v":0}]
[2,null,null,":",null,null,":",null,null,":",null,null,":",null,null,":",null,0,":",0,{"$f":"IF(C3>E3,1,0)+IF(F3>H3,1,0)+IF(I3>K3,1,0)+IF(L3>N3,1,0)+IF(O3>Q3,1,0)","v":0},":",{"$f":"IF(E3>C3,1,0)+IF(H3>F3,1,0)+IF(K3>I3,1,0)+IF(N3>L3,1,0)+IF(Q3>O3,1,0)","v":0},0]
[3,null,null,":",null,null,":",null,null,":",null,null,":",null,null,":",null,0,":",0,0,":",0,0]
[4,null,null,":",null,null,":",null,null,":",null,null,":",null,null,":",null,0,":",0,0,":",0,0]
[5,null,null,":",null,null,":",null,null,":",null,null,":",null,null,":",null,0,":",0,0,":",0,0]
[6,null,null,":",null,null,":",null,null,":",null,null,":",null,null,":",null,0,":",0,0,":",0,0]
[7,null,null,":",null,null,":",null,null,":",null,null,":",null,null,":",null,0,":",0,0,":",0,0]
[8,null,null,":",null,null,":",null,null,":",null,null,":",null,null,":",null,0,":",0,0,":",0,0]
[9,null,null,":",null,null,":",null,null,":",null,null,":",null,null,":",null,0,":",0,0,":",0,0]
[10,null,null,":",null,null,":",null,null,":",null,null,":",null,null,":",null,0,":",0,0,":",0,0]
[11,null,null,":",null,null,":",null,null,":",null,null,":",null,null,":",null,0,":",0,0,":",0,0]
[12,null,null,":",null,null,":",null,null,":",null,null,":",null,null,":",null,0,":",0,0,":",0,0]
[13,null,null,":",null,null,":",null,null,":",null,null,":",null,null,":",null,0,":",0,0,":",0,0]
[14,null,null,":",null,null,":",null,null,":",null,null,":",null,null,":",null,0,":",0,0,":",0,0]
[15,null,null,":",null,null,":",null,null,":",null,null,":",null,null,":",null,0,":",0,0,":",0,0]
[16,null,null,":",null,null,":",null,null,":",null,null,":",null,null,":",null,0,":",0,0,":",0,0]
[17,null,null,":",null,null,":",null,null,":",null,null,":",null,null,":",null,0,":",0,0,":",0,0]
[18,null,null,":",null,null,":",null,null,":",null,null,":",null,null,":",null,0,":",0,0,":",0,0]
[19,null,null,":",null,null,":",null,null,":",null,null,":",null,null,":",null,0,":",0,0,":",0,0]
[20,null,null,":",null,null,":",null,null,":",null,null,":",null,null,":",null,0,":",0,0,":",0,0]
[21,null,null,":",null,null,":",null,null,":",null,null,":",null,null,":",null,0,":",0,0,":",0,0]
[22,null,null,":",null,null,":",null,null,":",null,null,":",null,null,":",null,0,":",0,0,":",0,0]
[23,null,null,":",null,null,":",null,null,":",null,null,":",null,null,":",null,0,":",0,0,":",0,0]
[24,null,null,":",null,null,":",null,null,":",null,null,":",null,null,":",null,0,":",0,0,":",0,0]
[25,null,null,":",null,null,":",null,null,":",null,null,":",null,null,":",null,0,":",0,0,":",0,0]
[26,null,null,":",null,null,":",null,null,":",null,null,":",null,null,":",null,0,":",0,0,":",0,0]
[27,null,null,":",null,null,":",null,null,":",null,null,":",null,null,":",null,0,":",0,0,":",0,0]
[28,null,null,":",null,null,":",null,null,":",null,null,":",null,null,":",null,0,":",0,0,":",0,0]
[29,null,null,":",null,null,":",null,null,":",null,null,":",null,null,":",null,0,":",0,0,":",0,0]
[30,null,null,":",null,null,":",null,null,":",null,null,":",null,null,":",null,0,":",0,0,":",0,0]
[31,null,null,":",null,null,":",null,null,":",null,null,":",null,null,":",null,0,":",0,0,":",0,0]
[32,null,null,":",null,null,":",null,null,":",null,null,":",null,null,":",null,0,":",0,0,":",0,0]